BEGIN:VCALENDAR
VERSION:2.0
PRODID:-//VALENTI JAPAN - ヴァレンティジャパン - - ECPv5.16.4//NONSGML v1.0//EN
CALSCALE:GREGORIAN
METHOD:PUBLISH
X-WR-CALNAME:VALENTI JAPAN - ヴァレンティジャパン -
X-ORIGINAL-URL:https://valentijapan.com
X-WR-CALDESC:VALENTI JAPAN - ヴァレンティジャパン - のイベント
BEGIN:VTIMEZONE
TZID:Asia/Tokyo
BEGIN:STANDARD
TZOFFSETFROM:+0900
TZOFFSETTO:+0900
TZNAME:JST
DTSTART:20180101T000000
END:STANDARD
END:VTIMEZONE
BEGIN:VEVENT
DTSTART;TZID=Asia/Tokyo:20180303T100000
DTEND;TZID=Asia/Tokyo:20180304T170000
DTSTAMP:20260420T173323
CREATED:20180129T005952Z
LAST-MODIFIED:20180129T010454Z
UID:8101-1520071200-1520182800@valentijapan.com
SUMMARY:2018年3月3日～3月4日スーパーオートバックス246江田店（神奈川県）
DESCRIPTION:EVENT INFORMATION \n2018年3月3日～3月4日スーパーオートバックス246江田店（神奈川県） \n \nスーパーオートバックス246江田店にてヴァレンティフェスティバル開催！ 2月1日（木）～3月2日（金）の間、イベント事前予約受付いたします！ \nイベント当日よりも事前予約の方が大変お得です！ ・イベント事前予約　2月1日（木）～3月2日（金） ヴァレンティ製品全品15％OFF（一部商品を除く） \n※イベント当日はヴァレンティ製品全品10％OFFになります。 取付工賃もイベント当日よりも大特価！ 詳しくは店舗担当者までお問い合わせください。 \nイベント当日はヴァレンティのデモカーレヴォーグを展示します。 圧倒的な存在感のレヴォーグ＆ジュエルLEDテールランプREVOを是非ご覧ください！ \nジュエルＬＥＤテールランプシリーズの新製品サンプルやＬＥＤハイマウントストップランプ、ジュエルＬＥＤバルブ、 ＬＥＤルームランプ、LEDバルブ等々、ヴァレンティ製品を展示します。 イベント特典あり。期間中、欲しかったあの商品がスペシャルプライス！ \nまた、ヴァレフェスのもうひとつの特典として、車種別ジュエルLEDテールランプの仮合わせも行っております。 \nテールランプの装着イメージを見てみたい方やカラーラインナップを全て見てみたい方は下記店舗へご予約して頂ければ、イベント当日、サンプルをお持ちさせて頂きます。 （イベント日前々日までに要予約） \nぜひ、ご来店ください！ \n2018年3月3日～3月4日 \nスーパーオートバックス246江田店（神奈川県） \n日程：2018年3月3日(土)～3月4日(日) 場所： \nスーパーオートバックス246江田店 \n住所: 神奈川県横浜市都筑区あゆみが丘1-1 \n電話 : 045-911-0189 \nweb：http://www.sa-246eda.com/ \nVALEFES：http://www.superautobacs.com/VALEFES/
URL:https://valentijapan.com/event/2018030304sa246/
END:VEVENT
END:VCALENDAR