BEGIN:VCALENDAR
VERSION:2.0
PRODID:-//VALENTI JAPAN - ヴァレンティジャパン - - ECPv5.16.4//NONSGML v1.0//EN
CALSCALE:GREGORIAN
METHOD:PUBLISH
X-WR-CALNAME:VALENTI JAPAN - ヴァレンティジャパン -
X-ORIGINAL-URL:https://valentijapan.com
X-WR-CALDESC:VALENTI JAPAN - ヴァレンティジャパン - のイベント
BEGIN:VTIMEZONE
TZID:Asia/Tokyo
BEGIN:STANDARD
TZOFFSETFROM:+0900
TZOFFSETTO:+0900
TZNAME:JST
DTSTART:20190101T000000
END:STANDARD
END:VTIMEZONE
BEGIN:VEVENT
DTSTART;TZID=Asia/Tokyo:20190427T100000
DTEND;TZID=Asia/Tokyo:20190427T170000
DTSTAMP:20260425T052723
CREATED:20190422T001356Z
LAST-MODIFIED:20190422T001356Z
UID:9457-1556359200-1556384400@valentijapan.com
SUMMARY:2019年4月27日（土）『BIKE!BIKE!BIKE!2019』鈴鹿サーキット
DESCRIPTION:EVENT INFORMATION \n2019年4月27日（土） \n鈴鹿サーキット国際レーシングコースにて開催の『BIKE!BIKE!BIKE!2019』に出展します。 \n \n圧倒的な存在感のジュエルLEDテールランプmotoを是非ご覧ください！ \nジュエルＬＥＤテールランプサンプルやジュエルＬＥＤバルブ、LEDバルブ等々、ヴァレンティmoto製品を展示します。 \n会期中はヴァレンティジュエルLEDスタッフ在中。LEDのことならお任せください！ご相談お待ちしております。 \n期間中、欲しかったあの商品がスペシャルプライス！\nヴァレンティアンテナショップでしか買えないアイテムや、限定商品販売予定！\nスタッフ一同、お待ちしております。 \nぜひ、ご来店ください！ \n日程：2019年4月27日(土)\n場所：鈴鹿サーキット国際レーシングコース\n住所: 〒510-0295三重県鈴鹿市稲生町7992\n問合せ：0566-36-0477（株式会社プロト様）\nWEB：http://www.suzukacircuit.jp/bikebikebike/
URL:https://valentijapan.com/event/2019%e5%b9%b44%e6%9c%8827%e6%97%a5%ef%bc%88%e5%9c%9f%ef%bc%89%e3%80%8ebikebikebike2019%e3%80%8f%e9%88%b4%e9%b9%bf%e3%82%b5%e3%83%bc%e3%82%ad%e3%83%83%e3%83%88/
END:VEVENT
END:VCALENDAR