BEGIN:VCALENDAR
VERSION:2.0
PRODID:-//VALENTI JAPAN - ヴァレンティジャパン - - ECPv5.16.4//NONSGML v1.0//EN
CALSCALE:GREGORIAN
METHOD:PUBLISH
X-WR-CALNAME:VALENTI JAPAN - ヴァレンティジャパン -
X-ORIGINAL-URL:https://valentijapan.com
X-WR-CALDESC:VALENTI JAPAN - ヴァレンティジャパン - のイベント
BEGIN:VTIMEZONE
TZID:Asia/Tokyo
BEGIN:STANDARD
TZOFFSETFROM:+0900
TZOFFSETTO:+0900
TZNAME:JST
DTSTART:20200101T000000
END:STANDARD
END:VTIMEZONE
BEGIN:VEVENT
DTSTART;TZID=Asia/Tokyo:20200110T090000
DTEND;TZID=Asia/Tokyo:20200112T180000
DTSTAMP:20260423T104604
CREATED:20191105T024732Z
LAST-MODIFIED:20191118T050824Z
UID:10493-1578646800-1578852000@valentijapan.com
SUMMARY:2020年1月10日～1月12日  東京オートサロン2020(幕張メッセ)
DESCRIPTION:EVENT INFORMATION\nTOKYO AUTO SALON 2020\n東京オートサロン2020に出展致します。\n2020年1月10日～1月12日 \n \n東京オートサロン2020 \nヴァレンティ、コンセプトデモカーを展示します。 \n2020年1月10日～1月12日 東京オートサロン2020\n圧倒的な存在感のヴァレンティコンセプトモデルジュエルLEDテールランプREVOを是非ご覧ください！\nまた、ジュエルLEDテールランプ【REVO】シリーズのサンプルやLEDハイマウントストップランプ、ジュエルLEDヘッドバルブ、LEDルームランプ、LEDヘッドバルブ等々、ヴァレンティ製品を展示します。\nヴァレンティアンテナショップでしか買えないアイテムや、オートサロン2020限定商品販売予定！\nイベント盛りだくさん！\nスタッフ一同、お待ちしております。\nぜひ、ご来場ください。 \n東京オートサロン2019　ヴァレンティブース風景はこちら↓ \nhttps://valentijapan.com/tokyo-autosalon-2019/ \n東京オートサロン2020　ヴァレンティブース特設サイトはこちら↓ \nhttps://valentijapan.com/tokyo-autosalon-2020/ \n会期中、毎日更新致します！ご期待ください！ \nホール：4\n小間番号：430\n日程：2020年1月10日（金）～1月12日（日）\n場所：幕張メッセ\n住所：千葉県千葉市美浜区中瀬2-1\n運営：東京オートサロン事務局\n公式サイト：https://www.tokyoautosalon.jp/2020/ \n※ご入場には別途入場券が必要になります。
URL:https://valentijapan.com/event/20190110-12tas2020/
END:VEVENT
END:VCALENDAR