BEGIN:VCALENDAR
VERSION:2.0
PRODID:-//VALENTI JAPAN - ヴァレンティジャパン - - ECPv5.16.4//NONSGML v1.0//EN
CALSCALE:GREGORIAN
METHOD:PUBLISH
X-WR-CALNAME:VALENTI JAPAN - ヴァレンティジャパン -
X-ORIGINAL-URL:https://valentijapan.com
X-WR-CALDESC:VALENTI JAPAN - ヴァレンティジャパン - のイベント
BEGIN:VTIMEZONE
TZID:Asia/Tokyo
BEGIN:STANDARD
TZOFFSETFROM:+0900
TZOFFSETTO:+0900
TZNAME:JST
DTSTART:20190101T000000
END:STANDARD
END:VTIMEZONE
BEGIN:VEVENT
DTSTART;TZID=Asia/Tokyo:20190202T100000
DTEND;TZID=Asia/Tokyo:20190203T180000
DTSTAMP:20260425T052423
CREATED:20181221T080040Z
LAST-MODIFIED:20181221T080040Z
UID:9151-1549101600-1549216800@valentijapan.com
SUMMARY:2019年2月2日～2月3日 オートバックス春日部店（埼玉県）
DESCRIPTION:EVENT INFORMATION \n2019年2月2日～2月3日 \nオートバックス春日部店にてヴァレンティフェスティバル開催！\n\n欲しかったあの商品がスペシャルプライス！ \n特設ブースでは、ジュエルＬＥＤテールランプREVOシリーズをはじめ、話題の新製品等々を展示します。\nイベント期間中はヴァレンティジュエルLEDスタッフ在中。LEDのことならお任せください！ご相談お待ちしております。 \nイベント当日はヴァレンティのデモカーレヴォーグを展示します。 圧倒的な存在感のレヴォーグ＆ジュエルLEDテールランプREVOを是非ご覧ください！ \nイベント事前予約受付いたします！ イベント当日よりも事前予約の方が大変お得です！ \nイベント事前予約特典 ・イベント当日よりもヴァレンティ製品全品大特価（一部製品を除く） 話題の新製品もご予約で後日取付も対象となります。\n詳しくは店舗までお問い合わせください。\n※イベント事前予約（イベント前日まで受付）とイベント当日では特典が違いますのでご注意ください。 \nイベント開催時だけの特典！「実際の商品を見てみたい！」を叶えます。 \n数あるヴァレンティ商品のうち、展示する商品はごく一部です。\nイベント開催特典として、事前にご依頼いただければ、ご希望の商品をご用意いたします。\n実際に愛車近くで装着イメージを確認することもできます。\nすべてのヴァレンティ商品が対象！\nイベント開催日前までに「お客様のお名前」、「ご来店日時」、「車名・形式」、「商品名」を\n直接開催店舗までお知らせください。（お電話でも受付けます。）\n在庫状況や、やむを得ずご用意できない場合がございます。ご了承ください。 \nさ　ら　に！光の祭典特別特典！ \n  \nイベント開催店舗のみの限定特典がございます☆ \n1万円以上お買い上げでVALENTIオリジナルエアフレッシュナープレゼント！ \n \n6万円以上お買い上げでVALENTIオリジナルコンパクトアメニティケースプレゼント！ \n \nどちらも限定品。 \n※下記開催店舗店舗のみの限定特典となります。\n※こちらのノベルティは数に限りがございます。無くなり次第終了です。ご了承ください。 \nぜひ、ご来店ください！ \n日程：2019年2月2日(土)～2月3日(日)\n場所：オートバックス春日部店 \n住所: 埼玉県春日部市不動院野１６５６－１ \n電話 : 048-760-1171 WEB： \nweb：http://www.autobacs.com/store/top/top.aspx?store=111028
URL:https://valentijapan.com/event/2019020203abkasukabe/
END:VEVENT
END:VCALENDAR