BEGIN:VCALENDAR
VERSION:2.0
PRODID:-//VALENTI JAPAN - ヴァレンティジャパン - - ECPv5.16.4//NONSGML v1.0//EN
CALSCALE:GREGORIAN
METHOD:PUBLISH
X-WR-CALNAME:VALENTI JAPAN - ヴァレンティジャパン -
X-ORIGINAL-URL:https://valentijapan.com
X-WR-CALDESC:VALENTI JAPAN - ヴァレンティジャパン - のイベント
BEGIN:VTIMEZONE
TZID:Asia/Tokyo
BEGIN:STANDARD
TZOFFSETFROM:+0900
TZOFFSETTO:+0900
TZNAME:JST
DTSTART:20190101T000000
END:STANDARD
END:VTIMEZONE
BEGIN:VEVENT
DTSTART;TZID=Asia/Tokyo:20190525T100000
DTEND;TZID=Asia/Tokyo:20190526T190000
DTSTAMP:20260425T064137
CREATED:20190514T024317Z
LAST-MODIFIED:20190515T025830Z
UID:9506-1558778400-1558897200@valentijapan.com
SUMMARY:2019年5月25日～5月26日オートバックス弘前東店(青森県)
DESCRIPTION:EVENT INFORMATION\n2019年5月25日(土)～5月26日(日)\nオートバックス弘前東店にてヴァレンティフェア開催！ \n \n欲しかったあの商品がスペシャルプライス！\n特設ブースでは、ジュエルＬＥＤテールランプREVOシリーズをはじめ、話題の新製品等々を展示しま\nす。\nヴァレンティ製品全品大特価（一部製品を除く） 話題の新製品もご予約で後日取付も対象となりま\nす。\nイベント開催日前でもご予約を承ります。\n「お客様のお名前」、「ご来店日時」、「車名・形式」、「商品名」を\n直接開催店舗までお知らせください。\n在庫状況や、やむを得ずご用意できない場合がございます。ご了承ください。 \n日程：2019年5月25日(土)～5月26日(日)\n場所：オートバックス弘前東店\n住所：青森県弘前市末広５－１－１\n電話：0172-26-4600\nWEB：https://www.autobacs.com/store/info/info?store=102010 \nVALEFES：https://www.superautobacs.com/VALEFES/index.html
URL:https://valentijapan.com/event/2019052526abhirosaki/
END:VEVENT
END:VCALENDAR