BEGIN:VCALENDAR
VERSION:2.0
PRODID:-//VALENTI JAPAN - ヴァレンティジャパン - - ECPv5.16.4//NONSGML v1.0//EN
CALSCALE:GREGORIAN
METHOD:PUBLISH
X-WR-CALNAME:VALENTI JAPAN - ヴァレンティジャパン -
X-ORIGINAL-URL:https://valentijapan.com
X-WR-CALDESC:VALENTI JAPAN - ヴァレンティジャパン - のイベント
BEGIN:VTIMEZONE
TZID:Asia/Tokyo
BEGIN:STANDARD
TZOFFSETFROM:+0900
TZOFFSETTO:+0900
TZNAME:JST
DTSTART:20190101T000000
END:STANDARD
END:VTIMEZONE
BEGIN:VEVENT
DTSTART;TZID=Asia/Tokyo:20191012T100000
DTEND;TZID=Asia/Tokyo:20191013T180000
DTSTAMP:20260423T151042
CREATED:20190927T024755Z
LAST-MODIFIED:20190927T024755Z
UID:10077-1570874400-1570989600@valentijapan.com
SUMMARY:2019年10月12日(土)～10月13日(日)  GR Garage豊田元町店 (愛知県)
DESCRIPTION:EVENT INFORMATION \n2019年10月12日(土)～10月13日(日) \nGR Garage豊田元町店\n\n愛車のあらゆるランプ類を販売しているこの「ヴァレンティ」にお任せください！\nもちろん話題の新製品テールランプのご予約も対象となります！\n欲しかったあの商品が○○％OFFとスペシャルプライス！ \nイベント事前予約受付いたします！ \nすべてのヴァレンティ商品が対象！ \n無料でご用意、イベント期間中にご予約いただける方に限ります。\nイベント開催中に「お客様のお名前」、「ご来店日時」、「車名・形式」、「商品名」を\n直接開催店舗までお知らせください。（お電話でも受付けます。）\n在庫状況や、やむを得ずご用意できない場合がございます。ご了承ください。 \n事前予約受付期間　9月18日（水）～10月11日（金）\nイベント開催期間　10月12日（土）～10月13日（日） \n是非この機会にご来店お待ちしております。 \n日程：2019年10月12日（土）～10月13日（日）\n場所：GR Garage豊田元町店\n住所：愛知県豊田市広久手町3-1-2\nTEL：0565-33-7952\nWEB： https://toyota.jp/gr/garage/toyotamotomachi/?padid=ag341_from_grgarage_detailtoyotamotomachi \n  \n  \n 
URL:https://valentijapan.com/event/201910121013grgaragetoyota/
END:VEVENT
END:VCALENDAR