BEGIN:VCALENDAR
VERSION:2.0
PRODID:-//VALENTI JAPAN - ヴァレンティジャパン - - ECPv5.16.4//NONSGML v1.0//EN
CALSCALE:GREGORIAN
METHOD:PUBLISH
X-WR-CALNAME:VALENTI JAPAN - ヴァレンティジャパン -
X-ORIGINAL-URL:https://valentijapan.com
X-WR-CALDESC:VALENTI JAPAN - ヴァレンティジャパン - のイベント
BEGIN:VTIMEZONE
TZID:Asia/Tokyo
BEGIN:STANDARD
TZOFFSETFROM:+0900
TZOFFSETTO:+0900
TZNAME:JST
DTSTART:20190101T000000
END:STANDARD
END:VTIMEZONE
BEGIN:VEVENT
DTSTART;TZID=Asia/Tokyo:20191020T110000
DTEND;TZID=Asia/Tokyo:20191020T160000
DTSTAMP:20260423T121826
CREATED:20191010T094137Z
LAST-MODIFIED:20191010T094137Z
UID:10386-1571569200-1571587200@valentijapan.com
SUMMARY:2019年10月20日(日)リバティーウォーク(愛知県)
DESCRIPTION:EVENT INFORMATION \n2019年10月20日（日） \n俺のリバティーウォークに出展します。\n \n\nジュエルＬＥＤテールランプ【REVO】シリーズのサンプルやＬＥＤハイマウントストップランプ、 \nジュエルＬＥＤヘッドバルブ、ＬＥＤルームランプ、ＬＥＤヘッドバルブ等々、ヴァレンティ製品を展示します。 \n圧倒的な存在感のジュエルLEDシリーズを是非ご覧ください！ \n期間中、欲しかったあのLED製品がスペシャルプライス！最大◎○パーセントオフの商品も。 \nさ　ら　に！特別特典！ \nご購入者様全員に限定ノベルティプレゼント。 \n \nヴァレンティオリジナルエアフレッシュナー \nご来場心よりお待ちしております。 \n\n\n日程：2019年10月20日（日）\n11:00～16:00 \n住所：愛知県尾張旭市瀬戸川町１丁目178番地 \nTEL：0561-51-0001 \n\nURL：https://libertywalk.co.jp/ 
URL:https://valentijapan.com/event/20191020libertywalk/
END:VEVENT
END:VCALENDAR