BEGIN:VCALENDAR
VERSION:2.0
PRODID:-//VALENTI JAPAN - ヴァレンティジャパン - - ECPv5.16.4//NONSGML v1.0//EN
CALSCALE:GREGORIAN
METHOD:PUBLISH
X-WR-CALNAME:VALENTI JAPAN - ヴァレンティジャパン -
X-ORIGINAL-URL:https://valentijapan.com
X-WR-CALDESC:VALENTI JAPAN - ヴァレンティジャパン - のイベント
BEGIN:VTIMEZONE
TZID:Asia/Tokyo
BEGIN:STANDARD
TZOFFSETFROM:+0900
TZOFFSETTO:+0900
TZNAME:JST
DTSTART:20190101T000000
END:STANDARD
END:VTIMEZONE
BEGIN:VEVENT
DTSTART;TZID=Asia/Tokyo:20191026T100000
DTEND;TZID=Asia/Tokyo:20191027T180000
DTSTAMP:20260423T121844
CREATED:20191015T072532Z
LAST-MODIFIED:20191015T072532Z
UID:10405-1572084000-1572199200@valentijapan.com
SUMMARY:2019年10月26日〜10月27日イエローハット太田店(群馬県)
DESCRIPTION:EVENT INFORMATION \n2019年10月26日〜10月27日 \nイエローハット太田店にて光の祭典ヴァレンティフェア開催！ \n \nヴァレンティのデモカー、30ヴェルファイアを展示予定。 \n圧倒的な存在感、輝きのジュエルLEDシリーズを是非ご覧ください！ \nジュエルＬＥＤテールランプシリーズの新製品サンプルやＬＥＤハイマウントストップランプ、ジュエルＬＥＤヘッドバルブ、ＬＥＤルームランプ、ＬＥＤバルブ等々、ヴァレンティ製品を展示します。 \n会期中はヴァレンティジュエルLEDスタッフ在中。LEDのことならお任せください！ご相談お待ちしております。 \n期間中、欲しかったあの商品がスペシャルプライス！ \nぜひ、ご来店ください！ \n日程：2019年10月26日(土)〜10月27日(日)\n場所：イエローハット太田店\n住所： 群馬県太田市西矢島町１６２－２\n電話 ：0276-60-2900\nWEB：https://www.yellowhat.jp/svc/StoreTop.do?storeCode=0583
URL:https://valentijapan.com/event/2019102627yhoota/
END:VEVENT
END:VCALENDAR