BEGIN:VCALENDAR
VERSION:2.0
PRODID:-//VALENTI JAPAN - ヴァレンティジャパン - - ECPv5.16.4//NONSGML v1.0//EN
CALSCALE:GREGORIAN
METHOD:PUBLISH
X-WR-CALNAME:VALENTI JAPAN - ヴァレンティジャパン -
X-ORIGINAL-URL:https://valentijapan.com
X-WR-CALDESC:VALENTI JAPAN - ヴァレンティジャパン - のイベント
BEGIN:VTIMEZONE
TZID:Asia/Tokyo
BEGIN:STANDARD
TZOFFSETFROM:+0900
TZOFFSETTO:+0900
TZNAME:JST
DTSTART:20190101T000000
END:STANDARD
END:VTIMEZONE
BEGIN:VEVENT
DTSTART;TZID=Asia/Tokyo:20191102T100000
DTEND;TZID=Asia/Tokyo:20191103T160000
DTSTAMP:20260423T090345
CREATED:20190927T001148Z
LAST-MODIFIED:20190927T023800Z
UID:10054-1572688800-1572796800@valentijapan.com
SUMMARY:2019年11月2日(土)~11月3日(日)富士スバル株式会社太田店(群馬県)
DESCRIPTION:EVENT INFORMATION \n2019年11月2日(土)~11月3日(日) \n富士スバル株式会社太田店にて開催の『カスタマイズフェア』に出展致します。 \n \n圧倒的な存在感のジュエルLEDテールランプREVOを是非ご覧下さい！ \n特設ブースでは、ジュエルLEDテールランプ【REVO】シリーズの製品サンプルやLEDハイマウントストップランプ、LEDルームランプ、LEDバルブ等々、ヴァレンティ製品を展示します。 \n期間中はヴァレンティスタッフ在中。 \nLEDに事ならお任せ下さい！ご相談お待ちしております。 \n欲しかったあの商品がスペシャルプライス！ \n是非、ご来店下さい！ \n開催日時：2019年11月2日(土)10:00～16:00 \n2019年11月3日(日)10:00～16:00 \n日程：2019年11月2日(土)~11月3日(日) \n場所：富士スバル株式会社　太田店 \n住所：群馬県太田市飯塚町1620-1 \nTEL：0276-45-3986 \nWEB：http://www.fujisubaru.co.jp/
URL:https://valentijapan.com/event/201911021103fujisubaru/
END:VEVENT
END:VCALENDAR