BEGIN:VCALENDAR
VERSION:2.0
PRODID:-//VALENTI JAPAN - ヴァレンティジャパン - - ECPv5.16.4//NONSGML v1.0//EN
CALSCALE:GREGORIAN
METHOD:PUBLISH
X-WR-CALNAME:VALENTI JAPAN - ヴァレンティジャパン -
X-ORIGINAL-URL:https://valentijapan.com
X-WR-CALDESC:VALENTI JAPAN - ヴァレンティジャパン - のイベント
BEGIN:VTIMEZONE
TZID:Asia/Tokyo
BEGIN:STANDARD
TZOFFSETFROM:+0900
TZOFFSETTO:+0900
TZNAME:JST
DTSTART:20190101T000000
END:STANDARD
END:VTIMEZONE
BEGIN:VEVENT
DTSTART;TZID=Asia/Tokyo:20191109T100000
DTEND;TZID=Asia/Tokyo:20191110T190000
DTSTAMP:20260423T104710
CREATED:20190927T033409Z
LAST-MODIFIED:20190927T033409Z
UID:10085-1573293600-1573412400@valentijapan.com
SUMMARY:2019年11月9日(土)～11月10日(日)  スーパーオートバックス小山 (栃木県)
DESCRIPTION:EVENT INFORMATION \n2019年11月9日(土)～11月10日(日) \nスーパーオートバックス小山にてヴァレフェス開催！ \n \n愛車のあらゆるランプ類を販売しているこの「ヴァレンティ」にお任せください！\nもちろん話題の新製品テールランプのご予約も対象となります！\n欲しかったあの商品がすべて○○％OFFとスペシャルプライス！ \nイベント事前予約受付いたします！ \nすべてのヴァレンティ商品が対象！ \n無料でご用意、イベント期間中にご予約いただける方に限ります。\nイベント開催中に「お客様のお名前」、「ご来店日時」、「車名・形式」、「商品名」を\n直接開催店舗までお知らせください。（お電話でも受付けます。）\n在庫状況や、やむを得ずご用意できない場合がございます。ご了承ください。 \n事前予約受付期間　10月4日（金）～11月8日（金）\nイベント開催期間　11月9日（土）～11月10日（日） \n是非この機会にご来店お待ちしております。 \n日程：2019年11月9日（土）～11月10日（日）\n場所：スーパーオートバックス小山\n住所：栃木県小山市西城南7丁目2番地4\nTEL：0285-28-6688\nWEB： https://www.autobacs.com/store/top/top.aspx?store=109037 \n  \n  \n  \n  \n  \n 
URL:https://valentijapan.com/event/201911091110saoyama/
END:VEVENT
END:VCALENDAR