BEGIN:VCALENDAR
VERSION:2.0
PRODID:-//VALENTI JAPAN - ヴァレンティジャパン - - ECPv5.16.4//NONSGML v1.0//EN
CALSCALE:GREGORIAN
METHOD:PUBLISH
X-WR-CALNAME:VALENTI JAPAN - ヴァレンティジャパン -
X-ORIGINAL-URL:https://valentijapan.com
X-WR-CALDESC:VALENTI JAPAN - ヴァレンティジャパン - のイベント
BEGIN:VTIMEZONE
TZID:Asia/Tokyo
BEGIN:STANDARD
TZOFFSETFROM:+0900
TZOFFSETTO:+0900
TZNAME:JST
DTSTART:20190101T000000
END:STANDARD
END:VTIMEZONE
BEGIN:VEVENT
DTSTART;TZID=Asia/Tokyo:20191117T100000
DTEND;TZID=Asia/Tokyo:20191117T150000
DTSTAMP:20260423T133847
CREATED:20191031T050844Z
LAST-MODIFIED:20191031T050844Z
UID:10476-1573984800-1574002800@valentijapan.com
SUMMARY:2019年11月17日（日）C-HR限定 第2回浜名湖オフ会(静岡県)
DESCRIPTION:EVENT INFORMATION\n2019年11月17日（日）\nC-HR限定 第2回浜名湖オフ会に参加出展します。 \nヴァレンティのデモカーC-HRを展示します。\n圧倒的な存在感のVALENTI『光のチューニング。』ジュエルLEDシリーズを是非ご覧ください！\nジュエルLEDテールランプREVOシリーズのサンプルやLEDハイマウントストップランプ、ジュエルLEDヘッドフォグバルブ、LEDルームランプ等々、ヴァレンティ製品を展示します。\nイベント当日は、欲しかったあの商品がスペシャルプライス！\nヴァレンティアンテナショップでしか買えない、限定商品も販売します。 \n日程：2019年11月17日(日)10時〜\n場所：渚園キャンプ場フリースペース\n住所：静岡県浜松市西区舞阪町弁天島5005-1\n※ご入場には別途、入場料が必要となります。
URL:https://valentijapan.com/event/20191117chr/
END:VEVENT
END:VCALENDAR