BEGIN:VCALENDAR
VERSION:2.0
PRODID:-//VALENTI JAPAN - ヴァレンティジャパン - - ECPv5.16.4//NONSGML v1.0//EN
CALSCALE:GREGORIAN
METHOD:PUBLISH
X-WR-CALNAME:VALENTI JAPAN - ヴァレンティジャパン -
X-ORIGINAL-URL:https://valentijapan.com
X-WR-CALDESC:VALENTI JAPAN - ヴァレンティジャパン - のイベント
BEGIN:VTIMEZONE
TZID:Asia/Tokyo
BEGIN:STANDARD
TZOFFSETFROM:+0900
TZOFFSETTO:+0900
TZNAME:JST
DTSTART:20210101T000000
END:STANDARD
END:VTIMEZONE
BEGIN:VEVENT
DTSTART;TZID=Asia/Tokyo:20211204T100000
DTEND;TZID=Asia/Tokyo:20211205T180000
DTSTAMP:20260424T210648
CREATED:20211124T014541Z
LAST-MODIFIED:20211124T014541Z
UID:13966-1638612000-1638727200@valentijapan.com
SUMMARY:2021年12月4日(土)～12月5日(日)Provide the innovate vehicle LRV(埼玉県)
DESCRIPTION:EVENT INFORMATION \n2021年12月4日(土)～12月5日(日) \nProvide the innovate vehicle LRVにてヴァレンティフェア開催！ \n愛車のあらゆるランプ類を販売しているこの「ヴァレンティ」にお任せください！ \nもちろん話題の新製品のご予約も対象となります！ \n欲しかったあの商品が○○％OFFとスペシャルプライス！ \n  \nイベント当日はメーカースタッフ不在のため店舗スタッフ様が対応いたします。 \nデモカーの展示はありません。 \n \n  \nイベント開催時だけの特典！「実際の商品を見てみたい！」を叶えます。 \n会場では、新製品はもちろん \n多くのValenti製品を展示します。 \nLEDバルブひとつとっても \n同一形状でありながら様々な色味や明るさ・・・ \nぜひ愛車のカスタマイズをご相談ください！ \n  \nイベント特典 \n■イベント特別価格 \n詳細内容につきましては開催店舗まで直接お問い合わせください。 \n是非この機会にご来店お待ちしております。 \n  \nイベント事前予約受付もいたします！ \n※イベント当日は混雑が予想されますので事前予約をお勧めします。 \n  \n新型コロナウイルス感染防止のため、お客様の安心、安全確保のため下記の取り組みを行っております。 \nご来店いただく際はマスクをご着用ください。 \n店舗出入口ではアルコール消毒液をご用意しておりますので、手指の消毒にご協力ください。 \nスタッフはマスク着用での接客をさせていただく場合がございます。 \n今後の状況により予告なく臨時休業、営業時間の変更を行う場合がございます。 \nお客様にはご不便をおかけいたしますが、感染防止拡大に何卒ご理解ご協力を賜りますようお願い申し上げます。 \n新型コロナウイルス感染症拡大防止に伴い、やむを得ずキャンペーン開催の中止・内容の変更など行わせていただく場合がございます。 \n  \n日程：2021年12月4日（土）～12月5日（日） \n場所：Provide the innovate vehicle LRV \n住所：〒362-0015 埼玉県上尾市緑丘4-2-4 \n電話：048-729-8363 \nWEB： http://www.leadcars.com/ \n  \n  \n 
URL:https://valentijapan.com/event/2021120405lead/
END:VEVENT
END:VCALENDAR