BEGIN:VCALENDAR
VERSION:2.0
PRODID:-//VALENTI JAPAN - ヴァレンティジャパン - - ECPv5.16.4//NONSGML v1.0//EN
CALSCALE:GREGORIAN
METHOD:PUBLISH
X-WR-CALNAME:VALENTI JAPAN - ヴァレンティジャパン -
X-ORIGINAL-URL:https://valentijapan.com
X-WR-CALDESC:VALENTI JAPAN - ヴァレンティジャパン - のイベント
BEGIN:VTIMEZONE
TZID:Asia/Tokyo
BEGIN:STANDARD
TZOFFSETFROM:+0900
TZOFFSETTO:+0900
TZNAME:JST
DTSTART:20230101T000000
END:STANDARD
END:VTIMEZONE
BEGIN:VEVENT
DTSTART;TZID=Asia/Tokyo:20230521T090000
DTEND;TZID=Asia/Tokyo:20230521T160000
DTSTAMP:20260426T052302
CREATED:20230403T073111Z
LAST-MODIFIED:20230403T074429Z
UID:16783-1684659600-1684684800@valentijapan.com
SUMMARY:2023年5月21日(日) カスタムパーツライド2023(千葉県袖ケ浦フォレスト・レースウェイ)
DESCRIPTION:EVENT INFORMATION \nカスタムパーツライド2023に出展致します。 \n \n圧倒的な存在感のヴァレンティmotoジュエルLEDシリーズを是非ご覧ください！\nまた、ＬＥＤヘッドバルブ、ＬＥＤバルブ等々、ヴァレンティ製品、話題のケミカル新製品！JELBO製品も展示します。\n期間中、欲しかったあの商品がスペシャルプライス！ \nヴァレンティオフィシャルショップでしか買えない、限定商品販売予定！\nRAV4/86/80ハリアー/ハイエース/キャラバン用のジュエルLEDテールランプ限定カラーなどなど！ \nさ　ら　に！！ \nイベント当日、ヴァレンティブースにて3\,000円(税込)以上お買い上げでVALENTIデモカー仕様 組立式プルバックカーをプレゼントします！ \n \nTAS2023で話題になりました、簡単組み立て式プルバックカーです！ \nまた、50\,000円（税込）以上のジュエルヘッドランプシリーズ、ジュエルLEDテールランプシリーズをお買い上げで、ヘッド、テールランプなど持ち運びに便利なキャリーカートをもれなくプレゼント。 \n \nキャリーカートはコンパクトに折り畳みができ、サイズはA4サイズほど。 \nコンパクトに収納でき重宝すること間違いなし。ヴァレンティロゴ入りです。 \nイベント特典あり。ぜひ、ご来場ください。\n新型コロナウイルス感染防止のため、お客様の安心、安全確保のため下記の取り組みを行っております。\nご来場いただく際はマスクをご着用ください。\n会場出入口、ブースではアルコール消毒液をご用意しておりますので、手指の消毒にご協力ください。\nスタッフはマスク着用での接客をさせていただく場合がございます。\n今後の状況により予告なく臨時休業、営業時間の変更を行う場合がございます。\nお客様にはご不便をおかけいたしますが、感染防止拡大に何卒ご理解ご協力を賜りますようお願い申し上げます。\n新型コロナウイルス感染症拡大防止に伴い、やむを得ず開催の中止・内容の変更など行わせていただく場合がございます。 \n日程：2023年5月21日(日)\n場所：袖ケ浦フォレスト・レースウェイ\n住所：千葉県袖ケ浦市林妙法台３４８−１\n主催：カスタムパーツライド2023事務局\nＨＰ： https://lit.link/custompartsride2023 \nValenti motoサイト：https://moto.valentijapan.com/
URL:https://valentijapan.com/event/20230521custompartsride2023/
ATTACH;FMTTYPE=image/jpeg:https://valentijapan.com/wp-content/uploads/337027828_954529148872759_6582389512803685499_n.jpg
END:VEVENT
END:VCALENDAR