BEGIN:VCALENDAR
VERSION:2.0
PRODID:-//VALENTI JAPAN - ヴァレンティジャパン - - ECPv5.16.4//NONSGML v1.0//EN
CALSCALE:GREGORIAN
METHOD:PUBLISH
X-WR-CALNAME:VALENTI JAPAN - ヴァレンティジャパン -
X-ORIGINAL-URL:https://valentijapan.com
X-WR-CALDESC:VALENTI JAPAN - ヴァレンティジャパン - のイベント
BEGIN:VTIMEZONE
TZID:Asia/Tokyo
BEGIN:STANDARD
TZOFFSETFROM:+0900
TZOFFSETTO:+0900
TZNAME:JST
DTSTART:20240101T000000
END:STANDARD
END:VTIMEZONE
BEGIN:VEVENT
DTSTART;TZID=Asia/Tokyo:20241020T093000
DTEND;TZID=Asia/Tokyo:20241020T163000
DTSTAMP:20260422T032844
CREATED:20240910T054020Z
LAST-MODIFIED:20240910T060120Z
UID:18955-1729416600-1729441800@valentijapan.com
SUMMARY:2024年10月20日(日) NANKAIライダーズmeet 2024(兵庫県 淡路ワールドパークＯＮＯＫＯＲＯ)
DESCRIPTION:EVENT INFORMATION \n2024年10月20日(日) \nNANKAIライダーズmeet 2024淡路ワールドパークＯＮＯＫＯＲＯに出展致します。 \n \n圧倒的な存在感のヴァレンティmotoジュエルLEDシリーズを是非ご覧ください！ \n \n \n \nまた、ＬＥＤヘッドバルブ、ＬＥＤバルブ等々、ヴァレンティ製品、話題のケミカル新製品！JELBO製品も展示します。 \n  \n \n期間中、欲しかったあの商品がスペシャルプライス！ \nヴァレンティオフィシャルショップでしか買えない、限定商品販売予定！\nGR86/RAV4/86/80ハリアー/ハイエース/キャラバン用のジュエルLEDテールランプ限定カラーなどなど！ \nさ　ら　に！！ \nイベント当日、ヴァレンティブースにて3\,000円(税込)以上お買い上げでノベルティをプレゼントします！ \n  \nまた、50\,000円（税込）以上のジュエルヘッドランプシリーズ、ジュエルLEDテールランプシリーズをお買い上げで、ヘッド、テールランプなど持ち運びに便利なキャリーカートをもれなくプレゼント。 \n \nキャリーカートはコンパクトに折り畳みができ、サイズはA4サイズほど。 \nコンパクトに収納でき重宝すること間違いなし。ヴァレンティロゴ入りです。 \nイベント特典あり。ぜひ、ご来場ください。 \n●ＯＮＯＫＯＲＯへのアクセス \n \n  \n開催日／2024年10月20日(日)\n開催場所／兵庫県淡路市塩田新島8-5　淡路ワールドパークＯＮＯＫＯＲＯ\n開催時間／9:30〜16:30\n主催／南海部品\nＨＰ：https://www.nankaibuhin.co.jp/news/南海部品-x-淡路ワールドパークｏｎｏｋｏｒｏ/ＯＮＯＫＯＲＯへのアクセス \nValenti motoサイト：https://moto.valentijapan.com/
URL:https://valentijapan.com/event/20241020nankaimeetawaji2024/
ATTACH;FMTTYPE=image/jpeg:https://valentijapan.com/wp-content/uploads/6552d0ac45a2f7345fabd7510b6db13e.jpg
END:VEVENT
END:VCALENDAR