BEGIN:VCALENDAR
VERSION:2.0
PRODID:-//VALENTI JAPAN - ヴァレンティジャパン - - ECPv5.16.4//NONSGML v1.0//EN
CALSCALE:GREGORIAN
METHOD:PUBLISH
X-WR-CALNAME:VALENTI JAPAN - ヴァレンティジャパン -
X-ORIGINAL-URL:https://valentijapan.com
X-WR-CALDESC:VALENTI JAPAN - ヴァレンティジャパン - のイベント
BEGIN:VTIMEZONE
TZID:Asia/Tokyo
BEGIN:STANDARD
TZOFFSETFROM:+0900
TZOFFSETTO:+0900
TZNAME:JST
DTSTART:20240101T000000
END:STANDARD
END:VTIMEZONE
BEGIN:VEVENT
DTSTART;TZID=Asia/Tokyo:20241110T090000
DTEND;TZID=Asia/Tokyo:20241110T160000
DTSTAMP:20260422T020315
CREATED:20240910T052714Z
LAST-MODIFIED:20240910T052714Z
UID:18951-1731229200-1731254400@valentijapan.com
SUMMARY:2024年11月10日(日) WORLD MOTO×カスタムパーツライド2024(大阪府泉大津フェニックス)
DESCRIPTION:EVENT INFORMATION \nWORLD MOTO×カスタムパーツライド2024に出展致します。 \n  \n圧倒的な存在感のヴァレンティmotoジュエルLEDシリーズを是非ご覧ください！ \n \n \n \nまた、ＬＥＤヘッドバルブ、ＬＥＤバルブ等々、ヴァレンティ製品、話題のケミカル新製品！JELBO製品も展示します。 \n  \n \n期間中、欲しかったあの商品がスペシャルプライス！ \nヴァレンティオフィシャルショップでしか買えない、限定商品販売予定！\nGR86/RAV4/86/80ハリアー/ハイエース/キャラバン用のジュエルLEDテールランプ限定カラーなどなど！ \nさ　ら　に！！ \nイベント当日、ヴァレンティブースにて3\,000円(税込)以上お買い上げでノベルティをプレゼントします！ \n  \nまた、50\,000円（税込）以上のジュエルヘッドランプシリーズ、ジュエルLEDテールランプシリーズをお買い上げで、ヘッド、テールランプなど持ち運びに便利なキャリーカートをもれなくプレゼント。 \n \nキャリーカートはコンパクトに折り畳みができ、サイズはA4サイズほど。 \nコンパクトに収納でき重宝すること間違いなし。ヴァレンティロゴ入りです。 \nイベント特典あり。ぜひ、ご来場ください。 \n開催日／2024年11月10日(日)\n開催場所／泉大津フェニックス 多目的広場\n開催時間／9:30〜16:00\n主催／WORLD MOTO、カスタムパーツライド実行委員会\n運営／（株）アド・エヌ、MotoConnect\n協力／（株）モーターマガジン社、H&L PLANNING\nＨＰ： https://wm-cpr.com \nValenti motoサイト：https://moto.valentijapan.com/ \n※ご入場には別途、チケットが必要となります。
URL:https://valentijapan.com/event/20241110custompartsride2024/
ATTACH;FMTTYPE=image/jpeg:https://valentijapan.com/wp-content/uploads/5a2445ee63ffab01cdd7aeab1d8a7c6d.jpg
END:VEVENT
END:VCALENDAR