BEGIN:VCALENDAR
VERSION:2.0
PRODID:-//VALENTI JAPAN - ヴァレンティジャパン - - ECPv5.16.4//NONSGML v1.0//EN
CALSCALE:GREGORIAN
METHOD:PUBLISH
X-WR-CALNAME:VALENTI JAPAN - ヴァレンティジャパン -
X-ORIGINAL-URL:https://valentijapan.com
X-WR-CALDESC:VALENTI JAPAN - ヴァレンティジャパン - のイベント
BEGIN:VTIMEZONE
TZID:Asia/Tokyo
BEGIN:STANDARD
TZOFFSETFROM:+0900
TZOFFSETTO:+0900
TZNAME:JST
DTSTART:20250101T000000
END:STANDARD
END:VTIMEZONE
BEGIN:VEVENT
DTSTART;TZID=Asia/Tokyo:20250420T090000
DTEND;TZID=Asia/Tokyo:20250420T170000
DTSTAMP:20260421T193129
CREATED:20250227T023738Z
LAST-MODIFIED:20250404T060931Z
UID:19967-1745139600-1745168400@valentijapan.com
SUMMARY:2025年4月20日(日) モーターファンフェスタ2025(静岡県 富士スピードウェイ)Valenti/AlphaRexブース出展
DESCRIPTION:EVENT INFORMATION \n2025年4月20日(日) \nモーターファンフェスタ2025 静岡県 富士スピードウェイにValenti/AlphaRex出展致します。 \n \n圧倒的な存在感LEDシリーズを是非ご覧ください！ \n\nＬＥＤヘッドバルブ、ＬＥＤバルブ等々、ヴァレンティ製品、話題のケミカル新製品！JELBO製品も展示します。\n期間中、欲しかったあの商品がスペシャルプライス！ \nヴァレンティオフィシャルショップでしか買えない、限定商品販売予定！\nRAV4/GR86/86/80ハリアー/ハイエース/キャラバン用のジュエルLEDテールランプ限定カラーなど！ \n \n \n会場では、新製品はもちろん今話題のAlphaRex製品も展示します。 \n\nLEDバルブひとつとっても\n同一形状でありながら様々な色味や明るさ・・・\nぜひ愛車のカスタマイズをご相談ください！ \nイベント特典\n■イベント特別価格\n■ 無料でご希望の商品をお持ちします!\n■メーカーSTAFFによるマッチング相談\n■ノベルティプレゼント（限定） \nさ　ら　に！！ \nイベント特典あり。ぜひ、ご来場ください。 \nヴァレンティ/アルファレックスはブース位置は小間番号A-20になります！ \n \n日程：2025年4月20日(日)\n場所：富士スピードウェイ\n住所：静岡県駿東郡小山町中日向694\n運営：株式会社三栄\n公式サイト：https://motorfanfesta.com/2025/ \n 
URL:https://valentijapan.com/event/20250420motorfun2025/
ATTACH;FMTTYPE=image/png:https://valentijapan.com/wp-content/uploads/20025c0046b82ba418aac47acf74b8c6.png
END:VEVENT
END:VCALENDAR