BEGIN:VCALENDAR
VERSION:2.0
PRODID:-//VALENTI JAPAN - ヴァレンティジャパン - - ECPv5.16.4//NONSGML v1.0//EN
CALSCALE:GREGORIAN
METHOD:PUBLISH
X-WR-CALNAME:VALENTI JAPAN - ヴァレンティジャパン -
X-ORIGINAL-URL:https://valentijapan.com
X-WR-CALDESC:VALENTI JAPAN - ヴァレンティジャパン - のイベント
BEGIN:VTIMEZONE
TZID:Asia/Tokyo
BEGIN:STANDARD
TZOFFSETFROM:+0900
TZOFFSETTO:+0900
TZNAME:JST
DTSTART:20250101T000000
END:STANDARD
END:VTIMEZONE
BEGIN:VEVENT
DTSTART;TZID=Asia/Tokyo:20250505T090000
DTEND;TZID=Asia/Tokyo:20250505T170000
DTSTAMP:20260420T171931
CREATED:20250424T085426Z
LAST-MODIFIED:20250424T085513Z
UID:20263-1746435600-1746464400@valentijapan.com
SUMMARY:2025年5月5日(月) DUNLOPオールフェアレディＺミーティング2025(静岡県 富士スピードウェイ)AlphaRexブース出展
DESCRIPTION:EVENT INFORMATION \n2025年5月5日(月) \nDUNLOPオールフェアレディＺミーティング2025 静岡県 富士スピードウェイにAlphaRex出展致します。 \n  \n圧倒的な存在感アルファレックスLEDシリーズを是非ご覧ください！ \n会場では、今話題のAlphaRex製品を展示します。 \n\nLEDバルブひとつとっても\n同一形状でありながら様々な色味や明るさ・・・\nぜひ愛車のカスタマイズをご相談ください！ \nイベント特典\n■イベント特別価格\n■ 製品サンプル展示\n■メーカーSTAFFによるマッチング相談\n■ノベルティプレゼント（限定） \nさ　ら　に！！ \nイベント特典あり。ぜひ、ご来場ください。 \n  \n  \n日程：2025年5月5日(月)\n場所：富士スピードウェイ\n住所：静岡県駿東郡小山町中日向694\n運営：（株）気付 s30zcar.jp事務局\n公式サイト：https://s30zcar.jp \n参加には事前申し込みが必要となります。
URL:https://valentijapan.com/event/20250505allzmt/
ATTACH;FMTTYPE=image/jpeg:https://valentijapan.com/wp-content/uploads/af5ada27b3eb953e3ac12cfa67c4c636.jpg
END:VEVENT
END:VCALENDAR