BEGIN:VCALENDAR
VERSION:2.0
PRODID:-//VALENTI JAPAN - ヴァレンティジャパン - - ECPv5.16.4//NONSGML v1.0//EN
CALSCALE:GREGORIAN
METHOD:PUBLISH
X-WR-CALNAME:VALENTI JAPAN - ヴァレンティジャパン -
X-ORIGINAL-URL:https://valentijapan.com
X-WR-CALDESC:VALENTI JAPAN - ヴァレンティジャパン - のイベント
BEGIN:VTIMEZONE
TZID:Asia/Tokyo
BEGIN:STANDARD
TZOFFSETFROM:+0900
TZOFFSETTO:+0900
TZNAME:JST
DTSTART:20260101T000000
END:STANDARD
END:VTIMEZONE
BEGIN:VEVENT
DTSTART;TZID=Asia/Tokyo:20260425T090000
DTEND;TZID=Asia/Tokyo:20260425T170000
DTSTAMP:20260426T055133
CREATED:20260422T013556Z
LAST-MODIFIED:20260422T013556Z
UID:21819-1777107600-1777136400@valentijapan.com
SUMMARY:2026年4月25日(土)積載車の花道in富士2026 (静岡県 富士スピードウェイCパドック)
DESCRIPTION:EVENT INFORMATION \n2026年4月25日(土) \n  \n\n\n\n積載車の花道in富士2026 FUJI XTREME DAYS WITH FORMULA DRIFT JAPAN\n\n\n\n\n\n\n\n2026年4月25日(土) \n富士スピードウェイCパドックにて積載車の花道in富士に出展します。 \nイベントブースでは新製品をはじめ、トラック用パーツブランド花魁JAPAN製品を展示します。 \n \n当日は、花魁JAPANスタッフが常駐しておりますので、製品の説明、ご相談承ります。 \n展示販売も実施致しますのでそのまま商品をお持ち帰り頂くことも可能です！ \nお気軽にお立ち寄りください。 \nご来場お待ちしております！！ \n  \n日程：2026年4月25日(土) \n店舗：富士スピードウェイCパドック \nWEB：https://fujimotorsportsforest.jp/event/2026-fxd \n\n\n\n  \n※ご入場には別途入場券が必要になります。
URL:https://valentijapan.com/event/20260425jfuji2026/
ATTACH;FMTTYPE=image/jpeg:https://valentijapan.com/wp-content/uploads/IMG_1071.jpg
END:VEVENT
END:VCALENDAR