BEGIN:VCALENDAR
VERSION:2.0
PRODID:-//VALENTI JAPAN - ヴァレンティジャパン - - ECPv5.16.4//NONSGML v1.0//EN
CALSCALE:GREGORIAN
METHOD:PUBLISH
X-WR-CALNAME:VALENTI JAPAN - ヴァレンティジャパン -
X-ORIGINAL-URL:https://valentijapan.com
X-WR-CALDESC:VALENTI JAPAN - ヴァレンティジャパン - のイベント
BEGIN:VTIMEZONE
TZID:Asia/Tokyo
BEGIN:STANDARD
TZOFFSETFROM:+0900
TZOFFSETTO:+0900
TZNAME:JST
DTSTART:20250101T000000
END:STANDARD
END:VTIMEZONE
BEGIN:VEVENT
DTSTART;TZID=Asia/Tokyo:20250412T100000
DTEND;TZID=Asia/Tokyo:20250413T170000
DTSTAMP:20260421T202722
CREATED:20250407T082708Z
LAST-MODIFIED:20250407T082937Z
UID:20051-1744452000-1744563600@valentijapan.com
SUMMARY:2025年4月12日(土)～4月13日(日)FLEXハイエースベース柏店 (千葉県)
DESCRIPTION:EVENT INFORMATION \n2025年4月12日(土)～4月13日(日) \nFLEXハイエースベース柏店 \n  \n■イベント特別価格にて販売\n欲しかったあの商品がすべて○○％OFFとスペシャルプライス！ \n  \n会場では、新製品はもちろん、新ブランド【JELBO　V　（ジェルボファイブ）】の展示、販売を行います。\nヴァレンティがお届けする、カークリーニングシステムを是非見に来てください。 \n \nイベント当日はbradoハイパーチャンバーフェア同時開催します！ \n \n■ 無料でご希望の商品をお持ちします!\nイベント開催時だけの特典！「実際の商品を見てみたい！」を叶えます。\n数あるヴァレンティ商品のうち、通常店舗に展示・在庫してある商品はごく一部です。\nイベント開催特典として、事前にご依頼いただければ、ご希望の商品を無料でお持ちしますので、実際に愛車近くで装着イメージを確認することができます。\n無料でお持ちしますが、イベント開催当日までにご来店いただける方に限ります。\nイベント開催1週間前までに「お名前」・「ご来店日時」・「車名・形式」・「商品名」を直接開催店舗までお知らせください。（※お電話でも受付けます。）\n商品は、展示品・サンプル品・持込み商品のいずれかとなりますので、\nイベント当日に装着（お持ち帰り含む）できない場合がございます。\n在庫状況や、やむを得ずお持ちできない場合がございます。ご了承ください。 \n■メーカーSTAFFによるマッチング相談\n愛車のランプ類に何を取り付けていいかわからない…\n安心してください！専任のSTAFFが愛車に合った商品をご提案させていただきます！ \n■事前予約\nイベント事前予約受付もいたします！※イベント当日は混雑が予想されますので事前予約をお勧めします。\nもちろん話題の新製品のご予約も対象となります！ \n事前予約　〜4月8日(火) \n是非この機会にご来店お待ちしております。 \n  \n日程：2025年4月12日（土）、13日（日） \n場所：FLEXハイエースベース柏店 \n住所：千葉県柏市新富町1-7-5 \nTEL：04-7128-8856 \nWEB： https://www.flexnet.co.jp/hiace/hiacebase/shop/kashiwa
URL:https://valentijapan.com/event/flexhiacekashiwa/
ATTACH;FMTTYPE=image/png:https://valentijapan.com/wp-content/uploads/d11e0e387e7912bdebd73f32619380c2.png
END:VEVENT
END:VCALENDAR