BEGIN:VCALENDAR
VERSION:2.0
PRODID:-//VALENTI JAPAN - ヴァレンティジャパン - - ECPv5.16.4//NONSGML v1.0//EN
CALSCALE:GREGORIAN
METHOD:PUBLISH
X-WR-CALNAME:VALENTI JAPAN - ヴァレンティジャパン -
X-ORIGINAL-URL:https://valentijapan.com
X-WR-CALDESC:VALENTI JAPAN - ヴァレンティジャパン - のイベント
BEGIN:VTIMEZONE
TZID:Asia/Tokyo
BEGIN:STANDARD
TZOFFSETFROM:+0900
TZOFFSETTO:+0900
TZNAME:JST
DTSTART:20240101T000000
END:STANDARD
END:VTIMEZONE
BEGIN:VEVENT
DTSTART;TZID=Asia/Tokyo:20240720T090000
DTEND;TZID=Asia/Tokyo:20240721T173000
DTSTAMP:20260421T181127
CREATED:20240607T040637Z
LAST-MODIFIED:20240607T040637Z
UID:18566-1721466000-1721583000@valentijapan.com
SUMMARY:2024年7月20日(土)〜7月21日(日)鈴鹿8時間耐久ロードレースNANKAIビレッジブース(三重県鈴鹿サーキット)
DESCRIPTION:EVENT INFORMATION \n2024年7月20日(土)〜7月21日(日) \n\nコカ・コーラ鈴鹿8時間耐久ロードレース、NANKAIビレッジブース(鈴鹿サーキット内交通教育センター)にて出展致します。 \n \n圧倒的な存在感のヴァレンティmotoジュエルLEDシリーズを是非ご覧ください！ \nまた、ＬＥＤヘッドバルブ、ＬＥＤバルブ等々、ヴァレンティ製品、brado製品、話題のケミカル新製品！JELBO製品も展示します。 \n \n期間中、欲しかったあの商品がスペシャルプライス！ \nヴァレンティオフィシャルショップでしか買えない、限定商品販売予定！\nGR86/RAV4/86/80ハリアー/ハイエース/キャラバン用のジュエルLEDテールランプ限定カラーなどなど！ \nさ　ら　に！！ \nイベント特典あり。 \nぜひ、ご来場の際はお立ち寄りください。 \n日程：2024年7月20日(土)〜7月21日(日)\n場所：三重県 鈴鹿サーキット\n住所：三重県鈴鹿市稲生町7992\n公式サイト：https://www.suzukacircuit.jp/8tai/\n※入場料が掛かります。 \nValenti motoサイト：https://moto.valentijapan.com/
URL:https://valentijapan.com/event/suzuka8tai2024/
ATTACH;FMTTYPE=image/jpeg:https://valentijapan.com/wp-content/uploads/94d698e07b9ce0eabcaad1d145b6e230.jpg
END:VEVENT
END:VCALENDAR