BEGIN:VCALENDAR
VERSION:2.0
PRODID:-//VALENTI JAPAN - ヴァレンティジャパン - - ECPv5.16.4//NONSGML v1.0//EN
CALSCALE:GREGORIAN
METHOD:PUBLISH
X-WR-CALNAME:VALENTI JAPAN - ヴァレンティジャパン -
X-ORIGINAL-URL:https://valentijapan.com
X-WR-CALDESC:VALENTI JAPAN - ヴァレンティジャパン - のイベント
BEGIN:VTIMEZONE
TZID:Asia/Tokyo
BEGIN:STANDARD
TZOFFSETFROM:+0900
TZOFFSETTO:+0900
TZNAME:JST
DTSTART:20180101T000000
END:STANDARD
END:VTIMEZONE
BEGIN:VEVENT
DTSTART;TZID=Asia/Tokyo:20180701T100000
DTEND;TZID=Asia/Tokyo:20180731T190000
DTSTAMP:20260425T133548
CREATED:20180629T101609Z
LAST-MODIFIED:20180629T101722Z
UID:8607-1530439200-1533063600@valentijapan.com
SUMMARY:2018年7月1日～7月31日 コクピット大泉店にてフェア開催（東京都）
DESCRIPTION:EVENT INFORMATION \n \n7月1日（日）～7月31日（火）は、\nコクピット大泉店（ウイズコーポレーショングループ各店舗）にてヴァレンティLEDフェア開催！\n\nLEDで愛車ドレスアップを応援！ \nヘッドライト・フォグランプ・ウインカー・バックランプなど今人気のLEDに変更しませんか？ \n愛車のあらゆるランプ類を販売しているこの「ヴァレンティ」にお任せください！\n\n期間中だけのフェア価格にになっております。取り寄せ商品も対象！\n\nもちろん話題の新製品テールランプのご予約も対象となります！ \n是非この機会にご来店お待ちしております。 \n日程：2018年7月1日(日)～7月31日(火)\n場所：コクピット大泉店（ウィズコーポレーション各店舗）\n住所：〒178-0064 東京都練馬区南大泉5-20-8\nTEL ：03-3924-1351\nWEB：http://www.cockpit-wako.com/top.html
URL:https://valentijapan.com/event/2018%e5%b9%b47%e6%9c%882%e6%97%a5%ef%bd%9e7%e6%9c%8831%e6%97%a5-%e3%82%b3%e3%82%af%e3%83%94%e3%83%83%e3%83%88%e5%a4%a7%e6%b3%89%e5%ba%97%e3%81%ab%e3%81%a6%e3%83%95%e3%82%a7%e3%82%a2%e9%96%8b%e5%82%ac/
END:VEVENT
BEGIN:VEVENT
DTSTART;TZID=Asia/Tokyo:20180706T100000
DTEND;TZID=Asia/Tokyo:20180716T200000
DTSTAMP:20260425T133548
CREATED:20180607T091303Z
LAST-MODIFIED:20180607T091303Z
UID:8569-1530871200-1531771200@valentijapan.com
SUMMARY:2018年7月6日～7月16日 スーパーオートバックス豊中庄内(大阪府)
DESCRIPTION:EVENT INFORMATION\n2018年7月6日～7月16日 \nスーパーオートバックス豊中庄内にてヴァレンティフェア開催！  \n期間中、欲しかったあの商品がスペシャルプライス！  \nヴァレンティ商品\nスペシャルプライスにて販売させていただきます！！\nルームランプにテールランプ、ヘッド＆フォグランプなどなど♪\n幅広い商品ラインナップ♫  \nぜひ、ご来店ください。  \n日程：2018年7月6日(金)～7月16日(月)\n場所：スーパーオートバックス豊中庄内\n住所：大阪府豊中市島江町1-1-1\nTEL ：06-6335-1047\nWEB：https://www.autobacs.com/store?guid=1267783896&session=1267783896&store=041313
URL:https://valentijapan.com/event/2018%e5%b9%b47%e6%9c%886%e6%97%a5%ef%bd%9e7%e6%9c%8816%e6%97%a5-%e3%82%b9%e3%83%bc%e3%83%91%e3%83%bc%e3%82%aa%e3%83%bc%e3%83%88%e3%83%90%e3%83%83%e3%82%af%e3%82%b9%e8%b1%8a%e4%b8%ad%e5%ba%84%e5%86%85/
END:VEVENT
BEGIN:VEVENT
DTSTART;TZID=Asia/Tokyo:20180714T100000
DTEND;TZID=Asia/Tokyo:20180715T190000
DTSTAMP:20260425T133548
CREATED:20180517T083808Z
LAST-MODIFIED:20180530T055436Z
UID:8434-1531562400-1531681200@valentijapan.com
SUMMARY:2018年7月14日～7月15日  スーパーオートバックス岐阜店（岐阜県）
DESCRIPTION:EVENT INFORMATION \n2018年7月14日～7月15日 \nスーパーオートバックス岐阜店にてヴァレンティフェスティバル開催！\n\nヴァレンティのデモカー30ヴェルファイア、BRZ、ハイエースを展示します。 \n圧倒的な存在感のジュエルLEDテールランプREVOを是非ご覧ください！ \n特設ブースではジュエルＬＥＤテールランプシリーズの新製品サンプルやＬＥＤハイマウントストップランプ、ジュエルＬＥＤバルブ、 ＬＥＤルームランプ、LEDヘッドフォグバルブ等々、 ヴァレンティ製品を展示します。会期中はヴァレンティジュエルLEDスタッフ在中。LEDのことならお任せください！ご相談お待ちしております。 \n欲しかったあの商品がスペシャルプライス！ \nさ　ら　に！！ \nイベント開催時のみの限定特典がございます☆ イベント開催特典 ・ヴァレンティブースでVALENTI JAPANの公式フェイスブックまたはインスタをフォローで、ヴァレンティ袋文字ステッカー（シルバー）を1枚プレゼント！ 限定品！ ※既にフォローされている方は、イベント中のお写真アップでステッカー差し上げます。 ※お一人様、1枚までとさせて頂きます。 ※こちらのステッカーは数に限りがございます。無くなり次第終了です。ご了承ください。 \nまた、ご希望の商品をお持ちします!イベント開催時だけの特典！「実際の商品を見てみたい！」を叶えます。 \n数あるヴァレンティ商品のうち、通常店舗に展示・在庫してある商品はごく一部です。イベント開催特典として、事前にご依頼いただければ、ご希望の商品を無料でお持ちしますので、実際に愛車近くで装着イメージを確認することができます。すべてのヴァレンティ商品が対象となります。 \n無料でお持ちしますが、イベント開催当日にご来店いただける方に限ります。 イベント開催１週間前までに「お名前」・「ご来店日時」・「車名・形式」・「商品名」を 直接開催店舗までお知らせください。（※お電話でも受付けます。） 商品は、展示品・サンプル品・持込み商品のいずれかとなりますので、イベント当日に装着（お持ち帰り含む）できない場合がございます。 在庫状況や、やむを得ずお持ちできない場合がございます。ご了承ください。 詳しくは店舗までお問い合わせください。※イベント事前予約とイベント当日では特典が違いますのでご注意ください。 \nご来店お待ちしております。 \n日程：2018年7月14日(土)～7月15日(日)\n場所：スーパーオートバックス岐阜店\n住所：岐阜県岐阜市宇佐３－１５－８\nTEL ：058-274-9871\nWEB： http://www.sa-gifu.com\nvalefes：http://www.superautobacs.com/VALEFES/index.html
URL:https://valentijapan.com/event/2018%e5%b9%b47%e6%9c%8814%e6%97%a5%ef%bd%9e7%e6%9c%8815%e6%97%a5-%e3%82%b9%e3%83%bc%e3%83%91%e3%83%bc%e3%82%aa%e3%83%bc%e3%83%88%e3%83%90%e3%83%83%e3%82%af%e3%82%b9%e5%b2%90%e9%98%9c%e5%ba%97/
END:VEVENT
BEGIN:VEVENT
DTSTART;TZID=Asia/Tokyo:20180714T100000
DTEND;TZID=Asia/Tokyo:20180715T170000
DTSTAMP:20260425T133548
CREATED:20180514T073352Z
LAST-MODIFIED:20180514T073352Z
UID:8375-1531562400-1531674000@valentijapan.com
SUMMARY:2018年7月14日～7月15日  スーパーオートバックスTODA店(埼玉県)
DESCRIPTION:EVENT INFORMATION\n2018年7月14日～7月15日 \nスーパーオートバックスTODA店にてヴァレンティフェスティバル開催！ \n \n6月13日～7月13日の間、イベント事前予約受付いたします！ イベント当日よりも事前予約の方が大変お得です！ \nイベント事前予約特典 ・イベント当日よりもヴァレンティ製品全品大特価（一部製品を除く） 話題の新製品もご予約で後日取付も対象となります。 \n・イベント当日よりも取付工賃大特価（一部取付を除く）ぜひこの機会に！ 詳しくは店舗までお問い合わせください。※イベント事前予約とイベント当日では特典が違いますのでご注意ください。 \nイベント当日はヴァレンティのデモカーレヴォーグを展示します。 \n圧倒的な存在感のレヴォーグ、ジュエルLEDテールランプREVOを是非ご覧ください！ \n特設ブースではジュエルＬＥＤテールランプシリーズの新製品サンプルやＬＥＤハイマウントストップランプ、ジュエルＬＥＤバルブ、 ＬＥＤルームランプ、LEDヘッドフォグバルブ等々、 ヴァレンティ製品を展示します。会期中はヴァレンティジュエルLEDスタッフ在中。LEDのことならお任せください！ご相談お待ちしております。 \n欲しかったあの商品がスペシャルプライス！ \nさ　ら　に！！ \n \nイベント開催時のみの限定特典がございます☆ イベント開催特典 ・ヴァレンティブースでVALENTI JAPANの公式フェイスブックまたはインスタをフォローで、ヴァレンティ袋文字ステッカー（シルバー）を1枚プレゼント！ 限定品！ ※既にフォローされている方は、イベント中のお写真アップでステッカー差し上げます。 ※お一人様、1枚までとさせて頂きます。 ※こちらのステッカーは数に限りがございます。無くなり次第終了です。ご了承ください。 \nまた、ご希望の商品をお持ちします!イベント開催時だけの特典！「実際の商品を見てみたい！」を叶えます。 \n数あるヴァレンティ商品のうち、通常店舗に展示・在庫してある商品はごく一部です。イベント開催特典として、事前にご依頼いただければ、ご希望の商品を無料でお持ちしますので、実際に愛車近くで装着イメージを確認することができます。すべてのヴァレンティ商品が対象となります。 \n無料でお持ちしますが、イベント開催当日にご来店いただける方に限ります。 イベント開催１週間前までに「お名前」・「ご来店日時」・「車名・形式」・「商品名」を 直接開催店舗までお知らせください。（※お電話でも受付けます。） 商品は、展示品・サンプル品・持込み商品のいずれかとなりますので、イベント当日に装着（お持ち帰り含む）できない場合がございます。 在庫状況や、やむを得ずお持ちできない場合がございます。ご了承ください。 詳しくは店舗までお問い合わせください。※イベント事前予約とイベント当日では特典が違いますのでご注意ください。 \nご来店お待ちしております。 \n日程：2018年7月14日(土)～7月15日(日)\n場所：スーパーオートバックスTODA店\n住所：埼玉県戸田市笹目６－２３－２\nTEL ：048-424-0189\nWEB：http://www.autobacs.com/store/top/top.aspx?store=111051 \nvalefes：http://www.superautobacs.com/VALEFES/index.html
URL:https://valentijapan.com/event/2018071415satoda/
END:VEVENT
END:VCALENDAR