BEGIN:VCALENDAR
VERSION:2.0
PRODID:-//VALENTI JAPAN - ヴァレンティジャパン - - ECPv5.16.4//NONSGML v1.0//EN
CALSCALE:GREGORIAN
METHOD:PUBLISH
X-WR-CALNAME:VALENTI JAPAN - ヴァレンティジャパン -
X-ORIGINAL-URL:https://valentijapan.com
X-WR-CALDESC:VALENTI JAPAN - ヴァレンティジャパン - のイベント
BEGIN:VTIMEZONE
TZID:Asia/Tokyo
BEGIN:STANDARD
TZOFFSETFROM:+0900
TZOFFSETTO:+0900
TZNAME:JST
DTSTART:20180101T000000
END:STANDARD
END:VTIMEZONE
BEGIN:VEVENT
DTSTART;TZID=Asia/Tokyo:20180924T080000
DTEND;TZID=Asia/Tokyo:20180924T180000
DTSTAMP:20260425T112713
CREATED:20180806T023936Z
LAST-MODIFIED:20180822T045757Z
UID:8702-1537776000-1537812000@valentijapan.com
SUMMARY:2018年9月24日（月祝）  カーポートマルゼン西宮店（兵庫県）
DESCRIPTION:EVENT INFORMATION \n2018年9月24日 \nカーポートマルゼン西宮店にて光の祭典ヴァレンティフェア開催！ \n \nイベント当日はヴァレンティも応援しているレーシングドライバー谷口信輝選手のトークショー開催！ \n \n圧倒的な存在感のジュエルLEDテールランプREVOを是非ご覧ください！ \nジュエルＬＥＤテールランプシリーズの新製品サンプルやＬＥＤハイマウントストップランプ、ジュエルＬＥＤバルブ、ＬＥＤルームランプ、LEDバルブ等々、ヴァレンティ製品を展示します。 \n会期中はヴァレンティジュエルLEDスタッフ在中。LEDのことならお任せください！ご相談お待ちしております。 \n \n期間中、欲しかったあの商品がスペシャルプライス！\nまた、車種別ジュエルLEDテールランプの仮合わせも行っております。\nテールランプの装着イメージを見てみたい方やカラーラインナップを全て見てみたい方は下記店舗へご予約して頂ければ、イベント当日、サンプルをお持ちさせて頂きます。（イベント日前々日までに要予約） \nさ　ら　に！光の祭典特別特典！ \n \nイベント開催店舗のみの限定特典がございます☆ \n1万円以上お買い上げでVALENTIオリジナルエアフレッシュナープレゼント！ \n6万円以上お買い上げでVALENTIオリジナルコンパクトアメニティケースプレゼント！　どちらも限定品。 \n※下記開催店舗店舗のみの限定特典となります。 ※こちらのノベルティは数に限りがございます。無くなり次第終了です。ご了承ください。 \nぜひ、ご来店ください！ \n日程：2018年9月24日(月祝)\n場所：カーポートマルゼン西宮店\n住所: 〒663-8017 兵庫県西宮市大島町5-6\n電話 : 0120-925-717\nWEB：https://www.maluzen.com/company/shop-nishinomiya.html
URL:https://valentijapan.com/event/20180924maruzen/
END:VEVENT
BEGIN:VEVENT
DTSTART;TZID=Asia/Tokyo:20180922T100000
DTEND;TZID=Asia/Tokyo:20180924T190000
DTSTAMP:20260425T112713
CREATED:20180912T010310Z
LAST-MODIFIED:20180912T014550Z
UID:8797-1537610400-1537815600@valentijapan.com
SUMMARY:2018年9月22日（土）～9月24日（祝）  NEW'S Tire&Wheels（福岡県）
DESCRIPTION:EVENT INFORMATION \n2018年9月22日（土）～9月24日（祝） \nNEW’S Tire&Wheelsにて光の祭典ヴァレンティフェア開催！ \n \n \nLEDで愛車ドレスアップを応援！ \nヘッドライト・フォグランプ・ウインカー・バックランプなど今人気のLEDに変更しませんか？ \n愛車のあらゆるランプ類を販売しているこの「ヴァレンティ」にお任せください！ \nもちろん話題の新製品テールランプのご予約も対象となります！ \n是非この機会にご来店お待ちしております。 \n日程：2018年9月22日(土)～9月24日(祝)\n場所：NEW’S Tire&Wheels\n住所: 福岡県福岡市東区下原1-22-24\n電話 : 092-663-8185\nWEB：http://www.new-s.co.jp/
URL:https://valentijapan.com/event/2018%e5%b9%b49%e6%9c%8822%e6%97%a5%ef%bc%88%e5%9c%9f%ef%bc%89%ef%bd%9e9%e6%9c%8824%e6%97%a5%ef%bc%88%e7%a5%9d%ef%bc%89-news-tirewheels%ef%bc%88%e7%a6%8f%e5%b2%a1%e7%9c%8c%ef%bc%89/
END:VEVENT
END:VCALENDAR