BEGIN:VCALENDAR
VERSION:2.0
PRODID:-//VALENTI JAPAN - ヴァレンティジャパン - - ECPv5.16.4//NONSGML v1.0//EN
CALSCALE:GREGORIAN
METHOD:PUBLISH
X-WR-CALNAME:VALENTI JAPAN - ヴァレンティジャパン -
X-ORIGINAL-URL:https://valentijapan.com
X-WR-CALDESC:VALENTI JAPAN - ヴァレンティジャパン - のイベント
BEGIN:VTIMEZONE
TZID:Asia/Tokyo
BEGIN:STANDARD
TZOFFSETFROM:+0900
TZOFFSETTO:+0900
TZNAME:JST
DTSTART:20180101T000000
END:STANDARD
END:VTIMEZONE
BEGIN:VEVENT
DTSTART;TZID=Asia/Tokyo:20181006T100000
DTEND;TZID=Asia/Tokyo:20181007T200000
DTSTAMP:20260425T101651
CREATED:20180822T060140Z
LAST-MODIFIED:20180822T060140Z
UID:8751-1538820000-1538942400@valentijapan.com
SUMMARY:2018年10月6日～10月7日 スーパーオートバックスKUKI店(埼玉県)
DESCRIPTION:EVENT INFORMATION\n\n\n2018年10月6日～10月7日 \nスーパーオートバックスKUKI店にてヴァレンティフェスティバル開催！\n\nヴァレンティのデモカーレヴォーグを展示します。 \n圧倒的な存在感のジュエルLEDテールランプREVOを是非ご覧ください！ \n特設ブースでは、ジュエルＬＥＤテールランプ【REVO】シリーズの新製品サンプルやＬＥＤハイマウントストップランプ、ジュエルＬＥＤヘッドバルブ、ＬＥＤルームランプ、ＬＥＤバルブ等々、ヴァレンティ製品を展示します。 \n会期中はヴァレンティジュエルLEDスタッフ在中。LEDのことならお任せください！ご相談お待ちしております。 \n欲しかったあの商品がスペシャルプライス！\nまた、ヴァレフェスのもうひとつの特典として、車種別ジュエルLEDテールランプの仮合わせも行っております。\nテールランプの装着イメージを見てみたい方やカラーラインナップを全て見てみたい方は下記店舗へご予約して頂ければ、イベント当日、サンプルをお持ちさせて頂きます。（イベント日一週間前までに要予約） \nさ　ら　に！光の祭典特別特典！ \n \nイベント開催店舗のみの限定特典がございます☆ \n1万円以上お買い上げでVALENTIオリジナルエアフレッシュナープレゼント！ \n6万円以上お買い上げでVALENTIオリジナルコンパクトアメニティケースプレゼント！　どちらも限定品。 \n※下記開催店舗店舗のみの限定特典となります。 ※こちらのノベルティは数に限りがございます。無くなり次第終了です。ご了承ください。 \nぜひ、ご来店ください！ \n日程：2018年10月6日(土)～10月7日(日)\n場所：スーパーオートバックスKUKI店\n住所：埼玉県久喜市野久喜８７１番地１０\nTEL ：0480-26-9337\nWEB：https://www.autobacs.com/store/top/top.aspx?store=111049\nvalefes：http://www.superautobacs.com/VALEFES/index.html
URL:https://valentijapan.com/event/2018100607sakuki/
END:VEVENT
BEGIN:VEVENT
DTSTART;TZID=Asia/Tokyo:20181006T080000
DTEND;TZID=Asia/Tokyo:20181007T170000
DTSTAMP:20260425T101651
CREATED:20180822T055137Z
LAST-MODIFIED:20180822T055249Z
UID:8747-1538812800-1538931600@valentijapan.com
SUMMARY:2018年10月6日～10月7日MOTOR GAMES & J-NATION 岡山国際サーキット(岡山県)
DESCRIPTION:EVENT INFORMATION \n\n\n2018年10月6日～10月7日\n岡山国際サーキットにて開催される、クルマ、バイクの祭典、MOTOR GAMESに出展します。\n\n会期中の10月7日(日)は、あの伝説のイベント、J-NATIONも同時開催!!!!!\nヴァレンティのデモカーを展示します。\n圧倒的な存在感のジュエルLEDテールランプREVOを是非ご覧ください！\nまた、ジュエルＬＥＤテールランプ【REVO】シリーズの新製品サンプルやＬＥＤハイマウントストップランプ、ジュエルＬＥＤヘッドバルブ、ＬＥＤルームランプ、ＬＥＤヘッドバルブ等々、ヴァレンティ新製品を展示します。\n期間中、欲しかったあの商品がスペシャルプライス！\nヴァレンティアンテナショップでしか買えない、限定商品販売予定！\n\nさ　ら　に！光の祭典特別特典！ \n \nイベントのみの限定特典がございます☆ \n1万円以上お買い上げでVALENTIオリジナルエアフレッシュナープレゼント！ \n6万円以上お買い上げでVALENTIオリジナルコンパクトアメニティケースプレゼント！　どちらも限定品。 \n※下記イベントのみの限定特典となります。 ※こちらのノベルティは数に限りがございます。無くなり次第終了です。ご了承ください。 \nイベント特典あり。ぜひ、ご来場ください。 \n日程：2018年10月6日(土)～10月7日(日)\n場所：岡山国際サーキット\n住所：岡山県美作市滝宮1210\n電話番号：0868-74-3311 \nMOTOR GAMES公式サイト　http://motorgames.jp \n※ご入場には別途、チケットが必要となります。
URL:https://valentijapan.com/event/2018100708motorgames/
END:VEVENT
END:VCALENDAR