BEGIN:VCALENDAR
VERSION:2.0
PRODID:-//VALENTI JAPAN - ヴァレンティジャパン - - ECPv5.16.4//NONSGML v1.0//EN
CALSCALE:GREGORIAN
METHOD:PUBLISH
X-WR-CALNAME:VALENTI JAPAN - ヴァレンティジャパン -
X-ORIGINAL-URL:https://valentijapan.com
X-WR-CALDESC:VALENTI JAPAN - ヴァレンティジャパン - のイベント
BEGIN:VTIMEZONE
TZID:Asia/Tokyo
BEGIN:STANDARD
TZOFFSETFROM:+0900
TZOFFSETTO:+0900
TZNAME:JST
DTSTART:20180101T000000
END:STANDARD
END:VTIMEZONE
BEGIN:VEVENT
DTSTART;TZID=Asia/Tokyo:20181013T100000
DTEND;TZID=Asia/Tokyo:20181014T190000
DTSTAMP:20260425T101340
CREATED:20180907T015510Z
LAST-MODIFIED:20180907T041218Z
UID:8776-1539424800-1539543600@valentijapan.com
SUMMARY:2018年10月13日～10月14日  スーパーオートバックス岐阜店（岐阜県）
DESCRIPTION:EVENT INFORMATION \n2018年10月13日～10月14日 \nスーパーオートバックス岐阜店にてヴァレンティフェスティバル開催！\n\nヴァレンティのデモカー30ヴェルファイア、BRZ、ハイエースを展示します。 \n圧倒的な存在感のジュエルLEDテールランプREVOを是非ご覧ください！ \n特設ブースでは、ジュエルＬＥＤテールランプ【REVO】シリーズの新製品サンプルやＬＥＤハイマウントストップランプ、ジュエルＬＥＤヘッドバルブ、ＬＥＤルームランプ、ＬＥＤバルブ等々、ヴァレンティ製品を展示します。 \n会期中はヴァレンティジュエルLEDスタッフ在中。LEDのことならお任せください！ご相談お待ちしております。 \n欲しかったあの商品がスペシャルプライス！\nまた、ヴァレフェスのもうひとつの特典として、車種別ジュエルLEDテールランプの仮合わせも行っております。\nテールランプの装着イメージを見てみたい方やカラーラインナップを全て見てみたい方は下記店舗へご予約して頂ければ、イベント当日、サンプルをお持ちさせて頂きます。（イベント日一週間前までに要予約） \nさ　ら　に！光の祭典特別特典！ \n \nイベント開催店舗のみの限定特典がございます☆ \n1万円以上お買い上げでVALENTIオリジナルエアフレッシュナープレゼント！ \n6万円以上お買い上げでVALENTIオリジナルコンパクトアメニティケースプレゼント！　どちらも限定品。 \n※下記開催店舗店舗のみの限定特典となります。 ※こちらのノベルティは数に限りがございます。無くなり次第終了です。ご了承ください。 \nぜひ、ご来店ください！ \n日程：2018年10月13日(土)～10月14日(日)\n場所：スーパーオートバックス岐阜店\n住所：岐阜県岐阜市宇佐３－１５－８\nTEL ：058-274-9871\nWEB： http://www.sa-gifu.com\nvalefes：http://www.superautobacs.com/VALEFES/index.html
URL:https://valentijapan.com/event/2018101314sagifu/
END:VEVENT
BEGIN:VEVENT
DTSTART;TZID=Asia/Tokyo:20181013T100000
DTEND;TZID=Asia/Tokyo:20181014T180000
DTSTAMP:20260425T101340
CREATED:20180927T051110Z
LAST-MODIFIED:20180927T051110Z
UID:8860-1539424800-1539540000@valentijapan.com
SUMMARY:2018年10月13日〜10月14日 イエローハット大和郡山店(奈良県)
DESCRIPTION:EVENT INFORMATION \n2018年10月13日〜10月14日 \nイエローハット大和郡山店にて光の祭典ヴァレンティフェア開催！ \nLEDで愛車ドレスアップを応援！ \nヘッドライト・フォグランプ・ウインカー・バックランプなど今人気のLEDに変更しませんか？ \n愛車のあらゆるランプ類を販売しているこの「ヴァレンティ」にお任せください！ \nもちろん話題の新製品テールランプのご予約も対象となります！ \n是非この機会にご来店お待ちしております。 \n日程：2018年10月13日(土)〜10月14日(日)\n場所：イエローハット大和郡山店\n住所：奈良県大和郡山市今国府町２９５－６\n電話 ：0743-56-8481\nWEB：http://www.yellowhat.jp/svc/StoreTop.do?storeCode=0885
URL:https://valentijapan.com/event/2018%e5%b9%b410%e6%9c%8813%e6%97%a5%e3%80%9c10%e6%9c%8814%e6%97%a5-%e3%82%a4%e3%82%a8%e3%83%ad%e3%83%bc%e3%83%8f%e3%83%83%e3%83%88%e5%a4%a7%e5%92%8c%e9%83%a1%e5%b1%b1%e5%ba%97%e5%a5%88%e8%89%af/
END:VEVENT
END:VCALENDAR