BEGIN:VCALENDAR
VERSION:2.0
PRODID:-//VALENTI JAPAN - ヴァレンティジャパン - - ECPv5.16.4//NONSGML v1.0//EN
CALSCALE:GREGORIAN
METHOD:PUBLISH
X-WR-CALNAME:VALENTI JAPAN - ヴァレンティジャパン -
X-ORIGINAL-URL:https://valentijapan.com
X-WR-CALDESC:VALENTI JAPAN - ヴァレンティジャパン - のイベント
BEGIN:VTIMEZONE
TZID:Asia/Tokyo
BEGIN:STANDARD
TZOFFSETFROM:+0900
TZOFFSETTO:+0900
TZNAME:JST
DTSTART:20180101T000000
END:STANDARD
END:VTIMEZONE
BEGIN:VEVENT
DTSTART;TZID=Asia/Tokyo:20181110T100000
DTEND;TZID=Asia/Tokyo:20181111T180000
DTSTAMP:20260425T085824
CREATED:20180920T025715Z
LAST-MODIFIED:20181016T090815Z
UID:8831-1541844000-1541959200@valentijapan.com
SUMMARY:2018年11月10日～11月11日  スーパーオートバックス十日市場店（神奈川県）
DESCRIPTION:EVENT INFORMATION\n\n\n2018年11月10日～11月11日 \nスーパーオートバックス十日市場店にてヴァレンティフェスティバル開催！\n\nヴァレンティのデモカーヴェルファイアを展示します。 \n圧倒的な存在感のジュエルLEDテールランプREVOを是非ご覧ください！ \n特設ブースでは、ジュエルＬＥＤテールランプ【REVO】シリーズの新製品サンプルやＬＥＤハイマウントストップランプ、ジュエルＬＥＤヘッドバルブ、ＬＥＤルームランプ、ＬＥＤバルブ等々、ヴァレンティ製品を展示します。 \n会期中はヴァレンティジュエルLEDスタッフ在中。LEDのことならお任せください！ご相談お待ちしております。 \n欲しかったあの商品がスペシャルプライス！\nまた、ヴァレフェスのもうひとつの特典として、車種別ジュエルLEDテールランプの仮合わせも行っております。\nテールランプの装着イメージを見てみたい方やカラーラインナップを全て見てみたい方は下記店舗へご予約して頂ければ、イベント当日、サンプルをお持ちさせて頂きます。（イベント日一週間前までに要予約） \nさ　ら　に！光の祭典特別特典！ \n \nイベント開催店舗のみの限定特典がございます☆ \n1万円以上お買い上げでVALENTIオリジナルエアフレッシュナープレゼント！ \n6万円以上お買い上げでVALENTIオリジナルコンパクトアメニティケースプレゼント！　どちらも限定品。 \n※下記開催店舗店舗のみの限定特典となります。 ※こちらのノベルティは数に限りがございます。無くなり次第終了です。ご了承ください。 \nぜひ、ご来店ください！ \n日程：2018年11月10日(土)～11月11日(日)\n場所：スーパーオートバックス十日市場店\n住所：神奈川県横浜市緑区十日市場町８１１－７\nTEL ：045-982-9701\nWEB：http://www.sa-tookaichiba.com\nvalefes：http://www.superautobacs.com/VALEFES/index.html
URL:https://valentijapan.com/event/2018111011satohkaichiba/
END:VEVENT
BEGIN:VEVENT
DTSTART;TZID=Asia/Tokyo:20181025T103000
DTEND;TZID=Asia/Tokyo:20181111T190000
DTSTAMP:20260425T085824
CREATED:20181016T041717Z
LAST-MODIFIED:20181016T090659Z
UID:8937-1540463400-1541962800@valentijapan.com
SUMMARY:2018年10月25日～11月11日 オートバックス古河店(茨城県)
DESCRIPTION:EVENT INFORMATION\n\n\n2018年10月25日～11月11日 \n10月25日（木）グランドオープン！ \nオートバックス古河店にて光の祭典ヴァレンティフェア開催！ \n \nLEDで愛車ドレスアップを応援！ \nヘッドライト・フォグランプ・ウインカー・バックランプなど今人気のLEDに変更しませんか？ \n愛車のあらゆるランプ類を販売しているこの「ヴァレンティ」にお任せください！ \nもちろん話題の新製品テールランプのご予約も対象となります！ \n欲しかったあの商品がスペシャルプライス！ \nイベント開催時だけの特典！「実際の商品を見てみたい！」を叶えます。\n数あるヴァレンティ商品のうち、通常店舗に展示・在庫してある商品はごく一部です。イベント開催特典として、事前にご依頼いただければ、ご希望の商品を無料でご用意いたしますので、実際に愛車近くで装着イメージを確認することができます。 \nすべてのヴァレンティ商品が対象！\n無料でご用意、イベント期間中にご予約いただける方に限ります。\nイベント開催中に「お客様のお名前」、「ご来店日時」、「車名・形式」、「商品名」を\n直接開催店舗までお知らせください。（お電話でも受付けます。）\n在庫状況や、やむを得ずご用意できない場合がございます。ご了承ください。 \n是非この機会にご来店お待ちしております。 \n日程：2018年10月25日(木)〜11月11日(日)\n場所：オートバックス古河店\n住所：茨城県古河市小堤１９１４－３\n電話：0280-23-1890\nWEB：https://www.autobacs.com/store/top/top?store=108131
URL:https://valentijapan.com/event/2018%e5%b9%b410%e6%9c%8825%e6%97%a5%ef%bd%9e11%e6%9c%8811%e6%97%a5-%e3%82%aa%e3%83%bc%e3%83%88%e3%83%90%e3%83%83%e3%82%af%e3%82%b9%e5%8f%a4%e6%b2%b3%e5%ba%97%e8%8c%a8%e5%9f%8e%e7%9c%8c/
END:VEVENT
END:VCALENDAR