BEGIN:VCALENDAR
VERSION:2.0
PRODID:-//VALENTI JAPAN - ヴァレンティジャパン - - ECPv5.16.4//NONSGML v1.0//EN
CALSCALE:GREGORIAN
METHOD:PUBLISH
X-WR-CALNAME:VALENTI JAPAN - ヴァレンティジャパン -
X-ORIGINAL-URL:https://valentijapan.com
X-WR-CALDESC:VALENTI JAPAN - ヴァレンティジャパン - のイベント
BEGIN:VTIMEZONE
TZID:Asia/Tokyo
BEGIN:STANDARD
TZOFFSETFROM:+0900
TZOFFSETTO:+0900
TZNAME:JST
DTSTART:20180101T000000
END:STANDARD
END:VTIMEZONE
BEGIN:VEVENT
DTSTART;TZID=Asia/Tokyo:20181117T100000
DTEND;TZID=Asia/Tokyo:20181118T203000
DTSTAMP:20260425T085417
CREATED:20181026T081234Z
LAST-MODIFIED:20181026T114102Z
UID:8979-1542448800-1542573000@valentijapan.com
SUMMARY:2018年11月17日～11月18日  スーパーオートバックス姫路店（兵庫県）
DESCRIPTION:EVENT INFORMATION \n2018年11月17日～11月18日 \nスーパーオートバックス姫路店にてヴァレンティフェスティバル開催！\n\nヴァレンティのデモカーハイエースを展示します。 \n圧倒的な存在感のジュエルLEDテールランプREVOを是非ご覧ください！ \n特設ブースでは、ジュエルＬＥＤテールランプ【REVO】シリーズの新製品サンプルやＬＥＤハイマウントストップランプ、ジュエルＬＥＤヘッドバルブ、ＬＥＤルームランプ、ＬＥＤバルブ等々、ヴァレンティ製品を展示します。 \n会期中はヴァレンティジュエルLEDスタッフ在中。LEDのことならお任せください！ご相談お待ちしております。 \n欲しかったあの商品がスペシャルプライス！\nまた、ヴァレフェスのもうひとつの特典として、車種別ジュエルLEDテールランプの仮合わせも行っております。\nテールランプの装着イメージを見てみたい方やカラーラインナップを全て見てみたい方は下記店舗へご予約して頂ければ、イベント当日、サンプルをお持ちさせて頂きます。（イベント日一週間前までに要予約） \nさ　ら　に！光の祭典特別特典！ \nイベント開催店舗のみの限定特典がございます☆ \n \n1万円以上お買い上げでVALENTIオリジナルエアフレッシュナープレゼント！ \n6万円以上お買い上げでVALENTIオリジナルコンパクトアメニティケースプレゼント！　どちらも限定品。 \n※下記開催店舗店舗のみの限定特典となります。 ※こちらのノベルティは数に限りがございます。無くなり次第終了です。ご了承ください。 \nぜひ、ご来店ください！ \n日程：2018年11月17日(土)～11月18日(日)\n場所：スーパーオートバックス姫路店\n住所：兵庫県姫路市花田町一本松６３－１\nTEL ：079-251-0117\nWEB： https://www.autobacs.com/store/t/s091731\nvalefes：http://www.superautobacs.com/VALEFES/index.html
URL:https://valentijapan.com/event/2018111718sahimeji/
END:VEVENT
BEGIN:VEVENT
DTSTART;TZID=Asia/Tokyo:20181117T100000
DTEND;TZID=Asia/Tokyo:20181118T190000
DTSTAMP:20260425T085417
CREATED:20181016T043546Z
LAST-MODIFIED:20181016T043546Z
UID:8939-1542448800-1542567600@valentijapan.com
SUMMARY:2018年11月17日～11月18日 GRガレージ水戸インター店(茨城県)
DESCRIPTION:EVENT INFORMATION\n\n\n2018年11月17日～11月18日 \nGRガレージ水戸インター店にて光の祭典ヴァレンティフェア開催！\n　\n\n　\nLEDで愛車ドレスアップを応援！ \nヘッドライト・フォグランプ・ウインカー・バックランプなど今人気のLEDに変更しませんか？ \n愛車のあらゆるランプ類を販売しているこの「ヴァレンティ」にお任せください！ \nもちろん話題の新製品テールランプのご予約も対象となります！ \n欲しかったあの商品がスペシャルプライス！ \nイベント開催時だけの特典！「実際の商品を見てみたい！」を叶えます。\n数あるヴァレンティ商品のうち、通常店舗に展示・在庫してある商品はごく一部です。イベント開催特典として、事前にご依頼いただければ、ご希望の商品を無料でご用意いたしますので、実際に愛車近くで装着イメージを確認することができます。 \nすべてのヴァレンティ商品が対象！\n無料でご用意、イベント期間中にご来店いただける方に限ります。\nイベント開催中に「お客様のお名前」、「ご来店日時」、「車名・形式」、「商品名」を\n直接開催店舗までお知らせください。（お電話でも受付けます。）\n在庫状況や、やむを得ずご用意できない場合がございます。ご了承ください。 \n是非この機会にご来店お待ちしております。 \n　\n日程：2018年11月17日(土)〜11月18日(日)\n場所：GRガレージ水戸インター店\n住所：茨城県水戸市大塚町1532-1\n電話：029-257-2233\nWEB：https://www.corolla-si.com/store/gr
URL:https://valentijapan.com/event/2018%e5%b9%b411%e6%9c%8817%e6%97%a5%ef%bd%9e11%e6%9c%8818%e6%97%a5-gr%e3%82%ac%e3%83%ac%e3%83%bc%e3%82%b8%e6%b0%b4%e6%88%b8%e3%82%a4%e3%83%b3%e3%82%bf%e3%83%bc%e5%ba%97%e8%8c%a8%e5%9f%8e%e7%9c%8c/
END:VEVENT
END:VCALENDAR