BEGIN:VCALENDAR
VERSION:2.0
PRODID:-//VALENTI JAPAN - ヴァレンティジャパン - - ECPv5.16.4//NONSGML v1.0//EN
CALSCALE:GREGORIAN
METHOD:PUBLISH
X-WR-CALNAME:VALENTI JAPAN - ヴァレンティジャパン -
X-ORIGINAL-URL:https://valentijapan.com
X-WR-CALDESC:VALENTI JAPAN - ヴァレンティジャパン - のイベント
BEGIN:VTIMEZONE
TZID:Asia/Tokyo
BEGIN:STANDARD
TZOFFSETFROM:+0900
TZOFFSETTO:+0900
TZNAME:JST
DTSTART:20180101T000000
END:STANDARD
END:VTIMEZONE
BEGIN:VEVENT
DTSTART;TZID=Asia/Tokyo:20181123T100000
DTEND;TZID=Asia/Tokyo:20181125T180000
DTSTAMP:20260425T090236
CREATED:20181121T024205Z
LAST-MODIFIED:20181121T040401Z
UID:9055-1542967200-1543168800@valentijapan.com
SUMMARY:2018年11月23日〜11月25日 オートプロデュースA3(大阪府)
DESCRIPTION:EVENT INFORMATION \n2018年11月23日〜11月25日 \nオートプロデュースA3にて光の祭典ヴァレンティフェア開催！ \n \n2018年関西地区最後のヴァレンティフェアとなります！ \nこの機会をお見逃しなく！ \nLEDで愛車ドレスアップを応援！ \nヘッドライト・フォグランプ・ウインカー・バックランプなど今人気のLEDに変更しませんか？ \n愛車のあらゆるランプ類を販売しているこの「ヴァレンティ」にお任せください！ \nもちろん話題の新製品のご予約も対象となります！ \n欲しかったあの商品がスペシャルプライス！ \n是非この機会にご来店お待ちしております。 \n \n日程：2018年11月23日(金)〜11月25日(日) \n場所：オートプロデュースA3 \n住所：大阪府岸和田市稲葉町216－5 \n電話：072-479-2760 \nWEB：http://www.apa3.jp/
URL:https://valentijapan.com/event/autop20181123_25/
END:VEVENT
END:VCALENDAR