BEGIN:VCALENDAR
VERSION:2.0
PRODID:-//VALENTI JAPAN - ヴァレンティジャパン - - ECPv5.16.4//NONSGML v1.0//EN
CALSCALE:GREGORIAN
METHOD:PUBLISH
X-WR-CALNAME:VALENTI JAPAN - ヴァレンティジャパン -
X-ORIGINAL-URL:https://valentijapan.com
X-WR-CALDESC:VALENTI JAPAN - ヴァレンティジャパン - のイベント
BEGIN:VTIMEZONE
TZID:Asia/Tokyo
BEGIN:STANDARD
TZOFFSETFROM:+0900
TZOFFSETTO:+0900
TZNAME:JST
DTSTART:20180101T000000
END:STANDARD
END:VTIMEZONE
BEGIN:VEVENT
DTSTART;TZID=Asia/Tokyo:20181208T110000
DTEND;TZID=Asia/Tokyo:20181209T170000
DTSTAMP:20260425T074542
CREATED:20181030T044342Z
LAST-MODIFIED:20181101T012134Z
UID:8988-1544266800-1544374800@valentijapan.com
SUMMARY:2018年12月8日～12月9日  A PITオートバックス東雲店(東京都)
DESCRIPTION:EVENT INFORMATION\n\n\n2018年12月8日～12月9日 \n2018年11月23日リニューアルOPEN！\nスーパーオートバックス東京ベイ東雲店からA PIT オートバックス東雲に生まれ変わります。 \nA PITオートバックス東雲店にてヴァレンティフェスティバル開催！ \n欲しかったあの商品がスペシャルプライス！ \n特設ブースでは、ジュエルＬＥＤテールランプREVOシリーズをはじめ、話題の新製品等々を展示します。\nイベント期間中はヴァレンティジュエルLEDスタッフ在中。LEDのことならお任せください！ご相談お待ちしております。 \n圧倒的な存在感のジュエルLEDテールランプREVOを是非ご覧ください！ \nイベント事前予約受付いたします！ イベント当日よりも事前予約の方が大変お得です！ \nイベント事前予約特典 ・イベント当日よりもヴァレンティ製品全品大特価（一部製品を除く） 話題の新製品もご予約で後日取付も対象となります。\n詳しくは店舗までお問い合わせください。\n※イベント事前予約（イベント前日まで受付）とイベント当日では特典が違いますのでご注意ください。 \nイベント開催時だけの特典！「実際の商品を見てみたい！」を叶えます。 \n数あるヴァレンティ商品のうち、展示する商品はごく一部です。\nイベント開催特典として、事前にご依頼いただければ、ご希望の商品をご用意いたします。\n実際に愛車近くで装着イメージを確認することもできます。\nすべてのヴァレンティ商品が対象！\nイベント開催日前までに「お客様のお名前」、「ご来店日時」、「車名・形式」、「商品名」を\n直接開催店舗までお知らせください。（お電話でも受付けます。）\n在庫状況や、やむを得ずご用意できない場合がございます。ご了承ください。 \nさ　ら　に！光の祭典特別特典！ \n \n \nイベント開催店舗のみの限定特典がございます☆ \n1万円以上お買い上げでVALENTIオリジナルエアフレッシュナープレゼント！ \n6万円以上お買い上げでVALENTIオリジナルコンパクトアメニティケースプレゼント！　どちらも限定品。 \n※下記開催店舗店舗のみの限定特典となります。\n※こちらのノベルティは数に限りがございます。無くなり次第終了です。ご了承ください。 \nぜひ、ご来店ください！ \n日程：2018年12月8日(土)～12月9日(日)\n場所：A PIT オートバックス東雲店\n住所：東京都江東区東雲２丁目７番２０号\nTEL：03-3528-0357\nWEB：https://www.autobacs.com/store/info/info.aspx?store=113084
URL:https://valentijapan.com/event/2018120809a-pit/
END:VEVENT
END:VCALENDAR