BEGIN:VCALENDAR
VERSION:2.0
PRODID:-//VALENTI JAPAN - ヴァレンティジャパン - - ECPv5.16.4//NONSGML v1.0//EN
CALSCALE:GREGORIAN
METHOD:PUBLISH
X-WR-CALNAME:VALENTI JAPAN - ヴァレンティジャパン -
X-ORIGINAL-URL:https://valentijapan.com
X-WR-CALDESC:VALENTI JAPAN - ヴァレンティジャパン - のイベント
BEGIN:VTIMEZONE
TZID:Asia/Tokyo
BEGIN:STANDARD
TZOFFSETFROM:+0900
TZOFFSETTO:+0900
TZNAME:JST
DTSTART:20190101T000000
END:STANDARD
END:VTIMEZONE
BEGIN:VEVENT
DTSTART;TZID=Asia/Tokyo:20190323T100000
DTEND;TZID=Asia/Tokyo:20190324T180000
DTSTAMP:20260425T040653
CREATED:20190129T090507Z
LAST-MODIFIED:20190308T015159Z
UID:9205-1553335200-1553450400@valentijapan.com
SUMMARY:2019年3月23日〜3月24日 スーパーオートバックス仙台ルート45(宮城県)
DESCRIPTION:EVENT INFORMATION \n2019年3月23日〜3月24日 \nスーパーオートバックス仙台ルート４５店にてヴァレンティフェスティバル開催！ \n \nヴァレンティのデモカースバルBRZを展示します。 \n圧倒的な存在感のジュエルLEDテールランプREVOを是非ご覧ください！ \n特設ブースでは、ジュエルＬＥＤテールランプ【REVO】シリーズの新製品サンプルやＬＥＤハイマウントストップランプ、ジュエルＬＥＤヘッドバルブ、ＬＥＤルームランプ、ＬＥＤバルブ等々、ヴァレンティ製品を展示します。 \n会期中はヴァレンティジュエルLEDスタッフ在中。LEDのことならお任せください！ご相談お待ちしております。 \n欲しかったあの商品がスペシャルプライス！\nまた、ヴァレフェスのもうひとつの特典として、車種別ジュエルLEDテールランプの仮合わせも行っております。\nテールランプの装着イメージを見てみたい方やカラーラインナップを全て見てみたい方は下記店舗へご予約して頂ければ、イベント当日、サンプルをお持ちさせて頂きます。（イベント日一週間前までに要予約） \nさ　ら　に！光の祭典特別特典！ \nイベント開催店舗のみの限定特典がございます☆ \n \n1万円以上お買い上げでVALENTIオリジナルエアフレッシュナープレゼント！ \n6万円以上お買い上げでVALENTIオリジナルコンパクトアメニティケースプレゼント！　どちらも限定品。 \n※下記開催店舗店舗のみの限定特典となります。 ※こちらのノベルティは数に限りがございます。無くなり次第終了です。ご了承ください。 \nぜひ、ご来店ください！ \n日程：2019年3月23日(土)～3月24日(日)\n場所：スーパーオートバックス仙台ルート４５\n住所：宮城県仙台市宮城野区日の出町２丁目３番４５号\nTEL：022-232-2345\nWEB：https://www.autobacs.com/store/news/news?store=104041&doc_cd=15988 \nvalefes：http://www.superautobacs.com/VALEFES/
URL:https://valentijapan.com/event/2019032324sasendai45/
END:VEVENT
END:VCALENDAR