BEGIN:VCALENDAR
VERSION:2.0
PRODID:-//VALENTI JAPAN - ヴァレンティジャパン - - ECPv5.16.4//NONSGML v1.0//EN
CALSCALE:GREGORIAN
METHOD:PUBLISH
X-WR-CALNAME:VALENTI JAPAN - ヴァレンティジャパン -
X-ORIGINAL-URL:https://valentijapan.com
X-WR-CALDESC:VALENTI JAPAN - ヴァレンティジャパン - のイベント
BEGIN:VTIMEZONE
TZID:Asia/Tokyo
BEGIN:STANDARD
TZOFFSETFROM:+0900
TZOFFSETTO:+0900
TZNAME:JST
DTSTART:20190101T000000
END:STANDARD
END:VTIMEZONE
BEGIN:VEVENT
DTSTART;TZID=Asia/Tokyo:20190330T100000
DTEND;TZID=Asia/Tokyo:20190331T200000
DTSTAMP:20260425T040713
CREATED:20190220T041723Z
LAST-MODIFIED:20190308T015256Z
UID:9311-1553940000-1554062400@valentijapan.com
SUMMARY:2019年3月30日～3月31日　スーパーオートバックス高槻店(大阪府)
DESCRIPTION:EVENT INFORMATION\n\n\n2019年3月30日～3月31日 \nスーパーオートバックス高槻店にてヴァレンティフェスティバル開催！\n \n欲しかったあの商品がスペシャルプライス！\n特設ブースでは、ジュエルＬＥＤテールランプREVOシリーズをはじめ、話題の新製品等々を展示します。\nイベント期間中はスタッフ在中。LEDのことならお任せください！ご相談お待ちしております。\nイベント当日はヴァレンティのデモカー30ヴェルファイアを展示します。 圧倒的な存在感の\n30ヴェルファイア＆ジュエルLEDテールランプREVOを是非ご覧ください！\nヴァレンティ製品全品大特価（一部製品を除く） 話題の新製品もご予約で後日取付も対象となります。\n詳しくは店舗までお問い合わせください。\nイベント開催時だけの特典！「実際の商品を見てみたい！」を叶えます。\n数あるヴァレンティ商品のうち、展示する商品はごく一部です。\nイベント開催特典として、事前にご依頼いただければ、ご希望の商品をご用意いたします。\n実際に愛車近くで装着イメージを確認することもできます。\nすべてのヴァレンティ商品が対象！\nイベント開催日前までに「お客様のお名前」、「ご来店日時」、「車名・形式」、「商品名」を\n直接開催店舗までお知らせください。（お電話でも受付けます。）\n在庫状況や、やむを得ずご用意できない場合がございます。ご了承ください。 \n日程：2019年3月30日(土)～3月31日(日)\n場所：スーパーオートバックス高槻店\n住所：大阪府高槻市大塚町１－２－６\n電話 : 072-673-9377\nWEB：https://www.autobacs.com/store/top/top.aspx?store=131533
URL:https://valentijapan.com/event/2019033031satakatsuki/
END:VEVENT
END:VCALENDAR