BEGIN:VCALENDAR
VERSION:2.0
PRODID:-//VALENTI JAPAN - ヴァレンティジャパン - - ECPv5.16.4//NONSGML v1.0//EN
CALSCALE:GREGORIAN
METHOD:PUBLISH
X-WR-CALNAME:VALENTI JAPAN - ヴァレンティジャパン -
X-ORIGINAL-URL:https://valentijapan.com
X-WR-CALDESC:VALENTI JAPAN - ヴァレンティジャパン - のイベント
BEGIN:VTIMEZONE
TZID:Asia/Tokyo
BEGIN:STANDARD
TZOFFSETFROM:+0900
TZOFFSETTO:+0900
TZNAME:JST
DTSTART:20190101T000000
END:STANDARD
END:VTIMEZONE
BEGIN:VEVENT
DTSTART;TZID=Asia/Tokyo:20190420T100000
DTEND;TZID=Asia/Tokyo:20190430T190000
DTSTAMP:20260425T052550
CREATED:20190408T025158Z
LAST-MODIFIED:20190408T025158Z
UID:9421-1555754400-1556650800@valentijapan.com
SUMMARY:2019年4月20日～4月30日  スーパーオートバックス高松中央(香川)
DESCRIPTION:EVENT INFORMATION \n2019年4月20日(土)～4月30日(日) \nスーパーオートバックス高松中央 \n \n愛車のあらゆるランプ類を販売しているこの「ヴァレンティ」にお任せください！\nもちろん話題の新製品テールランプのご予約も対象となります！\n店頭にサンプル品もご用意していますので生で見れるチャンス！\n欲しかったあの商品がすべて○○％OFFとスペシャルプライス！\nさらに、さらに本日からご予約の商品に関してもすべて○○％OFFに！！！\nすべてのヴァレンティ商品が対象！\n無料でご用意、イベント期間中にご予約いただける方に限ります。\nイベント開催中に「お客様のお名前」、「ご来店日時」、「車名・形式」、「商品名」を\n直接開催店舗までお知らせください。（お電話でも受付けます。）\n在庫状況や、やむを得ずご用意できない場合がございます。ご了承ください。 \n予約受付期間　4月8日（月）～4月19日（金）\nイベント開催期間　4月20日（土）～4月30日(火） \n是非この機会にご来店お待ちしております。 \n日程：2019年4月20日（土）～4月30日(火）\n場所：スーパーオートバックス高松中央\n住所：香川県高松市東山崎町６６２－１\nTEL：087-840-7211\nWEB：https://www.autobacs.com/store/top/top.aspx?store=101448
URL:https://valentijapan.com/event/sakochi2018110205-2/
END:VEVENT
END:VCALENDAR