BEGIN:VCALENDAR
VERSION:2.0
PRODID:-//VALENTI JAPAN - ヴァレンティジャパン - - ECPv5.16.4//NONSGML v1.0//EN
CALSCALE:GREGORIAN
METHOD:PUBLISH
X-WR-CALNAME:VALENTI JAPAN - ヴァレンティジャパン -
X-ORIGINAL-URL:https://valentijapan.com
X-WR-CALDESC:VALENTI JAPAN - ヴァレンティジャパン - のイベント
BEGIN:VTIMEZONE
TZID:Asia/Tokyo
BEGIN:STANDARD
TZOFFSETFROM:+0900
TZOFFSETTO:+0900
TZNAME:JST
DTSTART:20190101T000000
END:STANDARD
END:VTIMEZONE
BEGIN:VEVENT
DTSTART;TZID=Asia/Tokyo:20190427T100000
DTEND;TZID=Asia/Tokyo:20190506T200000
DTSTAMP:20260425T052504
CREATED:20190219T045428Z
LAST-MODIFIED:20190219T074425Z
UID:9298-1556359200-1557172800@valentijapan.com
SUMMARY:2019年4月27日〜5月6日 イエローハット奈良店(奈良県)
DESCRIPTION:EVENT INFORMATION \n2019年4月27日〜5月6日 \nイエローハット奈良店にて光の祭典ヴァレンティフェア開催！\nイベント当日は、デモカー30ヴェルファイアを展示し、店舗スタッフがサポートします。\n圧倒的な存在感のジュエルLEDテールランプREVOを是非ご覧ください！ \n \nジュエルＬＥＤテールランプシリーズの新製品サンプルやＬＥＤハイマウントストップランプ、ジュエルＬＥＤバルブ、ＬＥＤルームランプ、LEDバルブ等々、ヴァレンティ製品を展示します。\nLEDのことならお任せください！ご相談お待ちしております。\n期間中、欲しかったあの商品がスペシャルプライス！ \nまた、車種別ジュエルLEDテールランプの仮合わせも行っております。\nテールランプの装着イメージを見てみたい方やカラーラインナップを全て見てみたい方は下記店舗へご予約して頂ければ、イベント当日、サンプルをお持ちさせて頂きます。（イベント日一週間前までに要予約） \n \nイベント開催店舗のみの限定特典がございます☆ \n1万円以上お買い上げでVALENTIオリジナルエアフレッシュナープレゼント！ \n6万円以上お買い上げでVALENTIオリジナルコンパクトアメニティケースプレゼント！　どちらも限定品。 \n※下記開催店舗のみの限定特典となります。 ※こちらのノベルティは数に限りがございます。無くなり次第終了です。ご了承ください。 \nぜひ、ご来店ください！ \n日程：2019年4月27日(土)〜5月6日(祝)\n場所：イエローハット奈良店\n住所： 奈良県奈良市尼辻町440\n電話 ：0742-30-0700\nWEB：https://www.yellowhat.jp/svc/StoreTop.do?storeCode=0854
URL:https://valentijapan.com/event/20190427yhnara/
END:VEVENT
END:VCALENDAR