BEGIN:VCALENDAR
VERSION:2.0
PRODID:-//VALENTI JAPAN - ヴァレンティジャパン - - ECPv5.16.4//NONSGML v1.0//EN
CALSCALE:GREGORIAN
METHOD:PUBLISH
X-WR-CALNAME:VALENTI JAPAN - ヴァレンティジャパン -
X-ORIGINAL-URL:https://valentijapan.com
X-WR-CALDESC:VALENTI JAPAN - ヴァレンティジャパン - のイベント
BEGIN:VTIMEZONE
TZID:Asia/Tokyo
BEGIN:STANDARD
TZOFFSETFROM:+0900
TZOFFSETTO:+0900
TZNAME:JST
DTSTART:20190101T000000
END:STANDARD
END:VTIMEZONE
BEGIN:VEVENT
DTSTART;TZID=Asia/Tokyo:20190518T100000
DTEND;TZID=Asia/Tokyo:20190519T170000
DTSTAMP:20260425T063456
CREATED:20190415T055542Z
LAST-MODIFIED:20190415T055542Z
UID:9431-1558173600-1558285200@valentijapan.com
SUMMARY:2019年5月18日～5月19日  カルバン金沢(石川)
DESCRIPTION:EVENT INFORMATION \n2019年5月18日(土)～5月19日(日) \nカルバン金沢 \n \n愛車のあらゆるランプ類を販売しているこの「ヴァレンティ」にお任せください！\nもちろん話題の新製品テールランプのご予約も対象となります！\n店頭にサンプル品もご用意していますので生で見れるチャンス！\n欲しかったあの商品がすべて○○％OFFとスペシャルプライス！\nさらに、さらに本日からご予約の商品に関してもすべて○○％OFFに！！！\nすべてのヴァレンティ商品が対象！\n無料でご用意、イベント期間中にご予約いただける方に限ります。\nイベント開催中に「お客様のお名前」、「ご来店日時」、「車名・形式」、「商品名」を\n直接開催店舗までお知らせください。（お電話でも受付けます。）\n在庫状況や、やむを得ずご用意できない場合がございます。ご了承ください。 \n予約受付期間　4月15日（月）～5月17日（金）\nイベント開催期間　5月18日（土）～5月19日(日） \n是非この機会にご来店お待ちしております。 \n日程：2019年5月18日（土）～5月19日（日）\n場所：カルバン金沢\n住所：石川県金沢市福久町ホ35\nTEL：076-254-0001\nWEB：https://carvan.co.jp/shop_blog_kanazawa/
URL:https://valentijapan.com/event/sakochi2018110205-2-2/
END:VEVENT
BEGIN:VEVENT
DTSTART;TZID=Asia/Tokyo:20190518T090000
DTEND;TZID=Asia/Tokyo:20190519T090000
DTSTAMP:20260425T063456
CREATED:20190426T043500Z
LAST-MODIFIED:20190426T043633Z
UID:9480-1558170000-1558256400@valentijapan.com
SUMMARY:2019年5月18日～5月19日 FORMULA DRIFT JAPAN2019 Round.1(三重県鈴鹿ツインサーキット)
DESCRIPTION:EVENT INFORMATION \n2019年5月18日～5月19日\nFORMULA DRIFT JAPAN2019 Round.1 in 鈴鹿ツインサーキットへ出展致します。 \n \nヴァレンティのデモカー西陣織カーボン86、ハイエース、花魁ジャパンデモカーデコトラを展示予定。\n圧倒的な存在感のジュエルLEDテールランプREVOを是非ご覧ください！\nまた、ジュエルＬＥＤテールランプ【REVO】シリーズの新製品サンプルやＬＥＤハイマウントストップランプ、ジュエルＬＥＤヘッドバルブ、ＬＥＤルームランプ、ＬＥＤヘッドバルブ等々、ヴァレンティ新製品を展示します。\n期間中、欲しかったあの商品がスペシャルプライス！\nヴァレンティアンテナショップでしか買えない、限定商品販売予定！\nさ　ら　に！！ \nイベント特典あり。ぜひ、ご来場ください。 \n  \n日程：2019年5月18日（土）～5月19日（日）\n場所：鈴鹿ツインサーキット\n住所：〒510-0265三重県鈴鹿市三宅町2913-2\n運営：MSC株式会社\nTel ：03-5305-3553\n公式サイト：http://www.formulad.jp/ \n※ご入場には別途、チケットが必要となります。
URL:https://valentijapan.com/event/fdsuzuka/
END:VEVENT
END:VCALENDAR