BEGIN:VCALENDAR
VERSION:2.0
PRODID:-//VALENTI JAPAN - ヴァレンティジャパン - - ECPv5.16.4//NONSGML v1.0//EN
CALSCALE:GREGORIAN
METHOD:PUBLISH
X-WR-CALNAME:VALENTI JAPAN - ヴァレンティジャパン -
X-ORIGINAL-URL:https://valentijapan.com
X-WR-CALDESC:VALENTI JAPAN - ヴァレンティジャパン - のイベント
BEGIN:VTIMEZONE
TZID:Asia/Tokyo
BEGIN:STANDARD
TZOFFSETFROM:+0900
TZOFFSETTO:+0900
TZNAME:JST
DTSTART:20190101T000000
END:STANDARD
END:VTIMEZONE
BEGIN:VEVENT
DTSTART;TZID=Asia/Tokyo:20190601T100000
DTEND;TZID=Asia/Tokyo:20190602T180000
DTSTAMP:20260425T063542
CREATED:20190422T015445Z
LAST-MODIFIED:20190422T015519Z
UID:9460-1559383200-1559498400@valentijapan.com
SUMMARY:2019年6月1日(土)～6月2日(日)  スーパーオートバックス湘南平塚店(神奈川県)
DESCRIPTION:EVENT INFORMATION \n2019年6月1日(土)～6月2日(日) \nスーパーオートバックス湘南平塚店 \n \n愛車のあらゆるランプ類を販売しているこの「ヴァレンティ」にお任せください！\nもちろん話題の新製品テールランプのご予約も対象となります！\n店頭にサンプル品もご用意していますので生で見れるチャンス！\n欲しかったあの商品がすべて○○％OFFとスペシャルプライス！\nさらに、ご予約の商品に関してもすべて○○％OFFに！！！\nすべてのヴァレンティ商品が対象！\n無料でご用意、イベント期間中にご予約いただける方に限ります。\nイベント開催中に「お客様のお名前」、「ご来店日時」、「車名・形式」、「商品名」を\n直接開催店舗までお知らせください。（お電話でも受付けます。）\n在庫状況や、やむを得ずご用意できない場合がございます。ご了承ください。 \n事前予約受付期間　4月26日（金）～5月31日（金）\nイベント開催期間　6月1日（土）～6月2日(日） \n是非この機会にご来店お待ちしております。 \n \nイベント開催店舗のみの限定特典がございます☆\n1万円以上お買い上げでVALENTIオリジナルエアフレッシュナープレゼント！\n※下記開催店舗店舗のみの限定特典となります。\n※こちらのノベルティは数に限りがございます。無くなり次第終了です。ご了承ください。\nぜひ、ご来店ください！ \n日程：2019年6月1日（土）～6月2日（日）\n場所：スーパーオートバックス湘南平塚店\n住所：神奈川県平塚市田村３－４－２５\nTEL：0463-54-9555\nWEB：https://www.autobacs.com/store/top/top.aspx?store=115050 \nvalefes：http://www.superautobacs.com/VALEFES/
URL:https://valentijapan.com/event/2019060102sashounan/
END:VEVENT
BEGIN:VEVENT
DTSTART;TZID=Asia/Tokyo:20190601T100000
DTEND;TZID=Asia/Tokyo:20190602T170000
DTSTAMP:20260425T063542
CREATED:20190422T015912Z
LAST-MODIFIED:20190422T015954Z
UID:9464-1559383200-1559494800@valentijapan.com
SUMMARY:2019年6月1日(土)～6月2日(日)  FLEX感謝祭(埼玉県長瀞オートキャンプ場)
DESCRIPTION:EVENT INFORMATION \n2019年6月1日(土)～6月2日(日) \n長瀞オートキャンプ場 \nFLEXハイエースユーザー感謝祭にヴァレンティも参加いたします！ \n当日はVALENTI製品をイベント大特価！ \n \n有名パーツメーカーによるスペシャル価格での展示即売会や、雑誌社による愛車撮影会の開催、\n各種アクティビティなどなど、 ハイエースユーザーなら楽しめること間違いなし！\nフレックススタッフや他のハイエースユーザーとの交流の場として、より多くのお客様に楽しんでいただくことを目的に、\nフレックスでハイエースをご購入されたお客様に限らず、 \n全国のハイエースユーザーを巻き込んだ1000人規模の一大イベントです！\nしかも、参加費は無料！皆様奮ってご参加ください！ \n  \n開催日時：2019.6.1(土)14:00～21:00\n2019.6.2(日)10:00～16:00 ※雨天決行 \n  \nイベントの詳細はこちらから\nhttps://www.flexnet.co.jp/hiacethanksgiving2019/ \n  \n日程：2019年6月1日（土）～6月2日（日）\n場所：長瀞オートキャンプ場\n住所：埼玉県秩父郡長瀞町大字井戸559-1\nTEL：03-3377-6047(FLEXハイエース感謝祭事務局)\nWEB： https://www.nagatoro-camp.com/
URL:https://valentijapan.com/event/2019060102flex/
END:VEVENT
END:VCALENDAR