BEGIN:VCALENDAR
VERSION:2.0
PRODID:-//VALENTI JAPAN - ヴァレンティジャパン - - ECPv5.16.4//NONSGML v1.0//EN
CALSCALE:GREGORIAN
METHOD:PUBLISH
X-WR-CALNAME:VALENTI JAPAN - ヴァレンティジャパン -
X-ORIGINAL-URL:https://valentijapan.com
X-WR-CALDESC:VALENTI JAPAN - ヴァレンティジャパン - のイベント
BEGIN:VTIMEZONE
TZID:Asia/Tokyo
BEGIN:STANDARD
TZOFFSETFROM:+0900
TZOFFSETTO:+0900
TZNAME:JST
DTSTART:20190101T000000
END:STANDARD
END:VTIMEZONE
BEGIN:VEVENT
DTSTART;TZID=Asia/Tokyo:20190615T100000
DTEND;TZID=Asia/Tokyo:20190616T200000
DTSTAMP:20260425T193615
CREATED:20190528T073601Z
LAST-MODIFIED:20190528T084619Z
UID:9545-1560592800-1560715200@valentijapan.com
SUMMARY:2019年6月15日(土)～6月16日(日) スーパーオートバックス千葉長沼店 (千葉県)
DESCRIPTION:EVENT INFORMATION \n2019年6月15日（土）～6月16日（日） \nスーパーオートバックス千葉長沼にてヴァレンティフェスティバル開催！ \n \n欲しかったあの商品がスペシャルプライス！\n特設ブースでは、ジュエルＬＥＤテールランプREVOシリーズをはじめ\n話題の新製品等々を展示します。\nイベント期間中はスタッフ在中。LEDのことならお任せください！ご相談お待ちしております。\nヴァレンティ製品全品大特価（一部製品を除く）\n話題の新製品もご予約で後日取付も対象となります。 \nイベント開催日前でもご予約を承ります。\n「お客様のお名前」、「ご来店日時」、「車名・形式」、「商品名」を\n直接開催店舗までお知らせください。（お電話でも受付けます。）\n在庫状況や、やむを得ずご用意できない場合がございます。ご了承ください。 \n日程：2019年6月15日（土）～6月16日（日）\n場所：スーパーオートバックス千葉長沼\n住所：千葉県千葉市稲毛区山王町３０７－２\nTEL：043-424-8561\nWEB：http://naganuma.autobacs.jp/
URL:https://valentijapan.com/event/201906150616sachibanaganuma/
END:VEVENT
END:VCALENDAR