BEGIN:VCALENDAR
VERSION:2.0
PRODID:-//VALENTI JAPAN - ヴァレンティジャパン - - ECPv5.16.4//NONSGML v1.0//EN
CALSCALE:GREGORIAN
METHOD:PUBLISH
X-WR-CALNAME:VALENTI JAPAN - ヴァレンティジャパン -
X-ORIGINAL-URL:https://valentijapan.com
X-WR-CALDESC:VALENTI JAPAN - ヴァレンティジャパン - のイベント
BEGIN:VTIMEZONE
TZID:Asia/Tokyo
BEGIN:STANDARD
TZOFFSETFROM:+0900
TZOFFSETTO:+0900
TZNAME:JST
DTSTART:20190101T000000
END:STANDARD
END:VTIMEZONE
BEGIN:VEVENT
DTSTART;TZID=Asia/Tokyo:20190622T100000
DTEND;TZID=Asia/Tokyo:20190623T190000
DTSTAMP:20260425T193512
CREATED:20190528T074242Z
LAST-MODIFIED:20190528T084403Z
UID:9548-1561197600-1561316400@valentijapan.com
SUMMARY:2019年6月22日〜6月23日 イエローハット河渡店(新潟県)
DESCRIPTION:EVENT INFORMATION \n2019年6月22日〜6月23日 \nイエローハット河渡店にてヴァレンティフェアを開催！ \n欲しかったあの商品がスペシャルプライス！\n特設ブースでは、ジュエルＬＥＤテールランプREVOシリーズをはじめ\n話題の新製品等々を展示します。\nイベント期間中はスタッフ在中。LEDのことならお任せください！ご相談お待ちしております。\nヴァレンティ製品全品大特価（一部製品を除く）\n話題の新製品もご予約で後日取付も対象となります。 \nイベント開催日前でもご予約を承ります。\n「お客様のお名前」、「ご来店日時」、「車名・形式」、「商品名」を\n直接開催店舗までお知らせください。（お電話でも受付けます。）\n在庫状況や、やむを得ずご用意できない場合がございます。ご了承ください。 \n日程：2019年6月22日(土)〜6月23日(日)\n場所：イエローハット河渡店\n住所：〒950-0015 新潟県新潟市東区河渡庚２４５－１\n電話 ：025-272-1681\nWEB：http://www.yellowhat.jp/svc/StoreTop.do?storeCode=0509
URL:https://valentijapan.com/event/201906220623yhkodo/
END:VEVENT
BEGIN:VEVENT
DTSTART;TZID=Asia/Tokyo:20190622T093000
DTEND;TZID=Asia/Tokyo:20190623T180000
DTSTAMP:20260425T193512
CREATED:20190426T043637Z
LAST-MODIFIED:20190506T234555Z
UID:9478-1561195800-1561312800@valentijapan.com
SUMMARY:2019年6月22日(土)～6月23日(日)  ScLaBo宇都宮店(栃木県)
DESCRIPTION:EVENT INFORMATION \n2019年6月22日(土)～6月23日(日) \n栃木スバル自動車株式会社　本社/ScLaBo宇都宮店 \n \n愛車のあらゆるランプ類を販売しているこの「ヴァレンティ」にお任せください！\nもちろん話題の新製品テールランプのご予約も対象となります！\n欲しかったあの商品がすべて○○％OFFとスペシャルプライス！ \nイベント事前予約受付いたします！\nすべてのヴァレンティ商品が対象！\n無料でご用意、イベント期間中にご予約いただける方に限ります。\nイベント開催中に「お客様のお名前」、「ご来店日時」、「車名・形式」、「商品名」を\n直接開催店舗までお知らせください。（お電話でも受付けます。）\n在庫状況や、やむを得ずご用意できない場合がございます。ご了承ください。\n※栃木スバル自動車株式会社　各店舗　http://www.tochigi-subaru.co.jp/dealer.html#dealer\nでも事前予約、取寄せ、取付が可能です！ \n予約受付期間　5月24日（金）～6月21日（金）\nイベント開催期間　6月22日（土）～6月23日(日） \n是非この機会にご来店お待ちしております。 \n  \n日程：2019年6月22日（土）～6月23日（日）\n場所：栃木スバル自動車株式会社　本社/ScLabo宇都宮店\n住所：栃木県宇都宮市陽南1-1-17\nTEL：028-658-2133\nWEB： http://www.tochigi-subaru.co.jp/
URL:https://valentijapan.com/event/2019062223sclaboutsunomiya/
END:VEVENT
END:VCALENDAR