BEGIN:VCALENDAR
VERSION:2.0
PRODID:-//VALENTI JAPAN - ヴァレンティジャパン - - ECPv5.16.4//NONSGML v1.0//EN
CALSCALE:GREGORIAN
METHOD:PUBLISH
X-WR-CALNAME:VALENTI JAPAN - ヴァレンティジャパン -
X-ORIGINAL-URL:https://valentijapan.com
X-WR-CALDESC:VALENTI JAPAN - ヴァレンティジャパン - のイベント
BEGIN:VTIMEZONE
TZID:Asia/Tokyo
BEGIN:STANDARD
TZOFFSETFROM:+0900
TZOFFSETTO:+0900
TZNAME:JST
DTSTART:20190101T000000
END:STANDARD
END:VTIMEZONE
BEGIN:VEVENT
DTSTART;TZID=Asia/Tokyo:20190629T100000
DTEND;TZID=Asia/Tokyo:20190630T193000
DTSTAMP:20260425T193346
CREATED:20190426T005928Z
LAST-MODIFIED:20190426T015900Z
UID:9475-1561802400-1561923000@valentijapan.com
SUMMARY:2019年6月29日(土)～6月30日(日)  オートバックス環状通・光星店(北海道)
DESCRIPTION:EVENT INFORMATION \n2019年5月25日(土)～5月26日(日) \nオートバックス環状通・光星店にてヴァレンティフェスティバル開催！ \n \n欲しかったあの商品がスペシャルプライス！\n特設ブースでは、ジュエルＬＥＤテールランプREVOシリーズをはじめ、話題の新製品等々を展示しま\nす。\nイベント期間中はスタッフ在中。LEDのことならお任せください！ご相談お待ちしております。\nヴァレンティ製品全品大特価（一部製品を除く） 話題の新製品もご予約で後日取付も対象となりま\nす。\nイベント開催日前でもご予約を承ります。\n「お客様のお名前」、「ご来店日時」、「車名・形式」、「商品名」を\n直接開催店舗もしくはSA SAPPORO、オートバックス札幌北47条店までお知らせください。\n（お電話でも受付けます。）\n在庫状況や、やむを得ずご用意できない場合がございます。ご了承ください。 \n  \n日程：2019年6月29日（土）～6月30日（日）\n場所：オートバックス環状通・光星店\n住所：北海道札幌市東区北１４条東７丁目１番地１８\nTEL：011-743-5588\nWEB：https://www.autobacs.com/store/info/info.aspx?store=101023
URL:https://valentijapan.com/event/2019062930abkanjo/
END:VEVENT
END:VCALENDAR