BEGIN:VCALENDAR
VERSION:2.0
PRODID:-//VALENTI JAPAN - ヴァレンティジャパン - - ECPv5.16.4//NONSGML v1.0//EN
CALSCALE:GREGORIAN
METHOD:PUBLISH
X-WR-CALNAME:VALENTI JAPAN - ヴァレンティジャパン -
X-ORIGINAL-URL:https://valentijapan.com
X-WR-CALDESC:VALENTI JAPAN - ヴァレンティジャパン - のイベント
BEGIN:VTIMEZONE
TZID:Asia/Tokyo
BEGIN:STANDARD
TZOFFSETFROM:+0900
TZOFFSETTO:+0900
TZNAME:JST
DTSTART:20190101T000000
END:STANDARD
END:VTIMEZONE
BEGIN:VEVENT
DTSTART;TZID=Asia/Tokyo:20190831T100000
DTEND;TZID=Asia/Tokyo:20190901T190000
DTSTAMP:20260423T163513
CREATED:20190719T043154Z
LAST-MODIFIED:20190719T043154Z
UID:9724-1567245600-1567364400@valentijapan.com
SUMMARY:2019年8月31日(土)～9月1日(日) スーパーオートバックスMITAKA(東京都)
DESCRIPTION:EVENT INFORMATION \n2019年8月31日(土)～9月1日(日) \nスーパーオートバックスMITAKA \n \n愛車のあらゆるランプ類を販売しているこの「ヴァレンティ」にお任せください！\nもちろん話題の新製品テールランプのご予約も対象となります！\n欲しかったあの商品がすべて○○％OFFとスペシャルプライス！ \nイベント事前予約受付いたします！\nすべてのヴァレンティ商品が対象！\n無料でご用意、イベント期間中にご予約いただける方に限ります。\nイベント開催中に「お客様のお名前」、「ご来店日時」、「車名・形式」、「商品名」を\n直接開催店舗までお知らせください。（お電話でも受付けます。）\n在庫状況や、やむを得ずご用意できない場合がございます。ご了承ください。 \n  \n事前予約受付期間　8月3日（金）～8月30日（金）\nイベント開催期間　8月31日（土）～9月1日（日） \n是非この機会にご来店お待ちしております。 \n日程：2019年8月30日（土）～9月1日（日）\n場所：スーパーオートバックスMITAKA\n住所：東京都三鷹市野崎 4-1-10\nTEL：0422-30-0577\nWEB：https://mitaka.autobacs.jp/ \n 
URL:https://valentijapan.com/event/201908310901samitaka/
END:VEVENT
END:VCALENDAR