BEGIN:VCALENDAR
VERSION:2.0
PRODID:-//VALENTI JAPAN - ヴァレンティジャパン - - ECPv5.16.4//NONSGML v1.0//EN
CALSCALE:GREGORIAN
METHOD:PUBLISH
X-WR-CALNAME:VALENTI JAPAN - ヴァレンティジャパン -
X-ORIGINAL-URL:https://valentijapan.com
X-WR-CALDESC:VALENTI JAPAN - ヴァレンティジャパン - のイベント
BEGIN:VTIMEZONE
TZID:Asia/Tokyo
BEGIN:STANDARD
TZOFFSETFROM:+0900
TZOFFSETTO:+0900
TZNAME:JST
DTSTART:20240101T000000
END:STANDARD
END:VTIMEZONE
BEGIN:VEVENT
DTSTART;TZID=Asia/Tokyo:20240901T100000
DTEND;TZID=Asia/Tokyo:20240929T180000
DTSTAMP:20260422T045427
CREATED:20240823T060433Z
LAST-MODIFIED:20240823T060458Z
UID:18893-1725184800-1727632800@valentijapan.com
SUMMARY:2024年9月1日(日)～9月29日(日)その輝き鮮烈キャンペーン オートバックス桶川店(埼玉県)
DESCRIPTION:その輝き鮮烈キャンペーン \n  \nCAMPAIGN INFORMATION \n \n9月1日(日)～9月29日(日)まで\nオートバックス桶川店にて 「ヴァレンティフェア」を開催いたします。\nヴァレンティ製品をスペシャルプライスにてご提供！！\nもちろんお取り寄せ商品も対象となります！ \nキャンペーンの詳細内容につきましては開催店舗まで直接お問い合わせください。\n是非この機会にご来店お待ちしております。 \n日程：2024年9月1日（日）～9月29日（日） \n場所：オートバックス桶川店\n住所： 埼玉県桶川市坂田１７０９番１\nTEL： 048-778-5720\nWEB：https://shop.autobacs.com/ja/retail/shops/111065/?store=111065 \n 
URL:https://valentijapan.com/event/2024090129abokegawa/
ATTACH;FMTTYPE=image/jpeg:https://valentijapan.com/wp-content/uploads/7f4df077fc91ea746d41c65c6d59983d.jpg
END:VEVENT
END:VCALENDAR