BEGIN:VCALENDAR
VERSION:2.0
PRODID:-//VALENTI JAPAN - ヴァレンティジャパン - - ECPv5.16.4//NONSGML v1.0//EN
CALSCALE:GREGORIAN
METHOD:PUBLISH
X-WR-CALNAME:VALENTI JAPAN - ヴァレンティジャパン -
X-ORIGINAL-URL:https://valentijapan.com
X-WR-CALDESC:VALENTI JAPAN - ヴァレンティジャパン - のイベント
BEGIN:VTIMEZONE
TZID:Asia/Tokyo
BEGIN:STANDARD
TZOFFSETFROM:+0900
TZOFFSETTO:+0900
TZNAME:JST
DTSTART:20240101T000000
END:STANDARD
END:VTIMEZONE
BEGIN:VEVENT
DTSTART;TZID=Asia/Tokyo:20241110T090000
DTEND;TZID=Asia/Tokyo:20241110T160000
DTSTAMP:20260422T020152
CREATED:20240910T052714Z
LAST-MODIFIED:20240910T052714Z
UID:18951-1731229200-1731254400@valentijapan.com
SUMMARY:2024年11月10日(日) WORLD MOTO×カスタムパーツライド2024(大阪府泉大津フェニックス)
DESCRIPTION:EVENT INFORMATION \nWORLD MOTO×カスタムパーツライド2024に出展致します。 \n  \n圧倒的な存在感のヴァレンティmotoジュエルLEDシリーズを是非ご覧ください！ \n \n \n \nまた、ＬＥＤヘッドバルブ、ＬＥＤバルブ等々、ヴァレンティ製品、話題のケミカル新製品！JELBO製品も展示します。 \n  \n \n期間中、欲しかったあの商品がスペシャルプライス！ \nヴァレンティオフィシャルショップでしか買えない、限定商品販売予定！\nGR86/RAV4/86/80ハリアー/ハイエース/キャラバン用のジュエルLEDテールランプ限定カラーなどなど！ \nさ　ら　に！！ \nイベント当日、ヴァレンティブースにて3\,000円(税込)以上お買い上げでノベルティをプレゼントします！ \n  \nまた、50\,000円（税込）以上のジュエルヘッドランプシリーズ、ジュエルLEDテールランプシリーズをお買い上げで、ヘッド、テールランプなど持ち運びに便利なキャリーカートをもれなくプレゼント。 \n \nキャリーカートはコンパクトに折り畳みができ、サイズはA4サイズほど。 \nコンパクトに収納でき重宝すること間違いなし。ヴァレンティロゴ入りです。 \nイベント特典あり。ぜひ、ご来場ください。 \n開催日／2024年11月10日(日)\n開催場所／泉大津フェニックス 多目的広場\n開催時間／9:30〜16:00\n主催／WORLD MOTO、カスタムパーツライド実行委員会\n運営／（株）アド・エヌ、MotoConnect\n協力／（株）モーターマガジン社、H&L PLANNING\nＨＰ： https://wm-cpr.com \nValenti motoサイト：https://moto.valentijapan.com/ \n※ご入場には別途、チケットが必要となります。
URL:https://valentijapan.com/event/20241110custompartsride2024/
ATTACH;FMTTYPE=image/jpeg:https://valentijapan.com/wp-content/uploads/5a2445ee63ffab01cdd7aeab1d8a7c6d.jpg
END:VEVENT
BEGIN:VEVENT
DTSTART;TZID=Asia/Tokyo:20241109T100000
DTEND;TZID=Asia/Tokyo:20241110T180000
DTSTAMP:20260422T020152
CREATED:20241018T024519Z
LAST-MODIFIED:20241106T005809Z
UID:19194-1731146400-1731261600@valentijapan.com
SUMMARY:2024年11月9日(土)〜11月10日(日)アップガレージ横浜町田総本店(東京都)
DESCRIPTION:EVENT INFORMATION \n2024年11月9日(土)〜11月10日(日) \nアップガレージ横浜町田総本店にてヴァレンティフェア開催。\n今回はイベント限定特価品を持込み開催いたします。\nぜひ愛車のカスタマイズをご相談ください！ \n \nイベント当日はbradoハイパーチャンバーフェア同時開催します！ \n \nイベント特典\n■イベント限定特価品の店頭販売を実施\n■当日店頭に無い製品も特別価格にてご提供\n■メーカーSTAFFによるマッチング相談\n是非この機会にご来店お待ちしております。 \n■ご希望の製品を持ち込みます！\n事前にご依頼いただければ、ご希望の商品を無料でお持ちします。\n製品を確認してからのご成約も可能です。\nイベント開催当日までにご来店いただける方に限ります。\n下記の日程までにヴァレンティもしくは店舗様へ直接ご連絡ください。\n在庫状況や、やむを得ずお持ちできない場合がございます。ご了承ください。 \n■事前予約\nイベント事前予約受付もいたします！\nもちろん話題の新製品のご予約も対象となります！ \n■事前予約　持込予約期間\n～11月６日（水）まで\n※「お名前」・「ご来店日時」・「車名・形式」・「商品名」を\nお伝えください。（お電話もしくはメールにてお受けいたします）\n※アップガレージ横浜町田総本店のイベントの件とお伝えください \n■VALENTIお問い合わせ先\nTEL　058-322-6700\n受付時間　10:00～12:00／13:00～18:00\n土・日・祝はお休みをいただきます。\nhttps://valentijapan.com/contact/ \n■開催店舗　店舗様お問い合わせ先\n日程：2024年11月9日（土）～11月10日（日）\n場所：アップガレージ横浜町田総本店\n住所：東京都町田市鶴間五丁目1-46\nTEL：042-788-5444\nWEB： https://www.upgarage.com/shop/001 \n 
URL:https://valentijapan.com/event/2024110910ugyokohama/
ATTACH;FMTTYPE=image/jpeg:https://valentijapan.com/wp-content/uploads/2160c395b00836d2ba18c123f02f7a17-644x555-2.jpg
END:VEVENT
BEGIN:VEVENT
DTSTART;TZID=Asia/Tokyo:20241109T100000
DTEND;TZID=Asia/Tokyo:20241110T180000
DTSTAMP:20260422T020152
CREATED:20241011T105418Z
LAST-MODIFIED:20241011T105745Z
UID:19161-1731146400-1731261600@valentijapan.com
SUMMARY:2024年11月9日(土)～11月10日(日)  スーパーオートバックス NAGOYABAY(愛知県)
DESCRIPTION:EVENT INFORMATION \n11月9日(土)～11月10日(日) \nスーパーオートバックス NAGOYABAY(愛知県) \nヘッドライト・フォグライトをはじめ夜間運転中に前方が暗くて見えにくいと感じている方\n愛車の電装を他の人とは違った見た目にドレスアップをしたい方\n愛車のあらゆるランプ類を販売している「ヴァレンティ」にお任せください！\n高光量！高品質！圧倒的商品ラインナップ！を是非イベントで体感してください！ \n \n \n会場では、JELBO V（ジェルボ　ファイブ）は勿論、Valenti製品も展示、販売を行います。 \nイベント開催時だけの特典！「実際の商品を見てみたい！」を叶えます。\nあの製品が見てみたい、持ってきてほしい、そんな方は是非お気軽に店舗又は弊社まで事前にご連絡をお願いします。 \nぜひ愛車のカスタマイズをご相談ください！ \nまた、イベント当日はbradoハイパーチャンバーフェア同時開催します！ \n \n【イベント特典】 \n■イベント特別価格にて販売\n欲しかったあの商品がすべて○○％OFFとスペシャルプライス！ \n■ 無料でご希望の商品をお持ちします!\nイベント開催時だけの特典！「実際の商品を見てみたい！」を叶えます。\n数あるヴァレンティ商品のうち、通常店舗に展示・在庫してある商品はごく一部です。\nイベント開催特典として、事前にご依頼いただければ、ご希望の商品を無料でお持ちしますので、実際に愛車近くで装着イメージを確認することができます。\n無料でお持ちしますが、イベント開催当日までにご来店いただける方に限ります。\nイベント開催1週間前までに「お名前」・「ご来店日時」・「車名・形式」・「商品名」を直接開催店舗までお知らせください。（※お電話でも受付けます。）\n商品は、展示品・サンプル品・持込み商品のいずれかとなりますので、\nイベント当日に装着（お持ち帰り含む）できない場合がございます。\n在庫状況や、やむを得ずお持ちできない場合がございます。ご了承ください。 \n■メーカーSTAFFによるマッチング相談\n愛車のランプ類に何を取り付けていいかわからない…\n安心してください！専任のSTAFFが愛車に合った商品をご提案させていただきます！ \n■事前予約\nイベント事前予約受付もいたします！※イベント当日は混雑が予想されますので事前予約をお勧めします。\nもちろん話題の新製品のご予約も対象となります！ \n事前予約 \nイベント事前予約受付もいたします！※イベント当日は混雑が予想されますので事前予約をお勧めします。 \n事前予約　〜11月1日(金) \n日程：2024年11月9日（土）～11月10日（日） \n場所：SA NAGOYABAY \n住所：愛知県名古屋市港区木場町９番５１号 \nTEL：052-693-2002 \nWEB：https://shop.autobacs.com/ja/retail/shops/300869/?store=300869 \n\n  \n\nオートバックスイベントWEB：https://www.superautobacs.com/sports_tuning/3016
URL:https://valentijapan.com/event/2024110910sanagoyabay/
ATTACH;FMTTYPE=image/jpeg:https://valentijapan.com/wp-content/uploads/VALFES-2020h-1-scaled.jpg
END:VEVENT
BEGIN:VEVENT
DTSTART;TZID=Asia/Tokyo:20241109T100000
DTEND;TZID=Asia/Tokyo:20241110T180000
DTSTAMP:20260422T020152
CREATED:20241001T232823Z
LAST-MODIFIED:20241001T233542Z
UID:19099-1731146400-1731261600@valentijapan.com
SUMMARY:2024年11月9日(土)～11月10日(日)トヨタモビリティ滋賀　エリアハイエース(滋賀県)
DESCRIPTION:EVENT INFORMATION \n11月9日(土)～11月10日(日) \nトヨタモビリティ滋賀　エリアハイエース(滋賀県) \n愛車のあらゆるランプ類を販売しているこの「ヴァレンティ」にお任せください！ \nもちろん話題の新製品のご予約も対象となります！ \n  \n会場では、新製品はもちろん、新ブランド【JELBO　V　（ジェルボファイブ）】の展示、販売を行います。\nヴァレンティがお届けする、カークリーニングシステムを是非見に来てください。 \n \nイベント当日はbradoハイパーチャンバーフェア同時開催します！ \n \nイベント特典\n■イベント特別価格\n■ 無料でご希望の商品をお持ちします!\n■メーカーSTAFFによるマッチング相談 \n事前予約　〜11月8日(金)\n※イベント当日は混雑が予想されますので事前予約をお勧めします。\n是非この機会にご来店お待ちしております。 \n  \n日程：11月9日(土)～11月10日(日) \n場所： トヨタモビリティ滋賀　エリアハイエース \n住所：滋賀県大津市富士見台1-1 \nTEL：077-534-1212 \nWEB：https://area-hiace.jp
URL:https://valentijapan.com/event/2024110910areahiace/
ATTACH;FMTTYPE=image/jpeg:https://valentijapan.com/wp-content/uploads/4d8021da1c7a89f88b472c82c3c43f5f-scaled.jpg
END:VEVENT
END:VCALENDAR