BEGIN:VCALENDAR
VERSION:2.0
PRODID:-//VALENTI JAPAN - ヴァレンティジャパン - - ECPv5.16.4//NONSGML v1.0//EN
CALSCALE:GREGORIAN
METHOD:PUBLISH
X-WR-CALNAME:VALENTI JAPAN - ヴァレンティジャパン -
X-ORIGINAL-URL:https://valentijapan.com
X-WR-CALDESC:VALENTI JAPAN - ヴァレンティジャパン - のイベント
BEGIN:VTIMEZONE
TZID:Asia/Tokyo
BEGIN:STANDARD
TZOFFSETFROM:+0900
TZOFFSETTO:+0900
TZNAME:JST
DTSTART:20250101T000000
END:STANDARD
END:VTIMEZONE
BEGIN:VEVENT
DTSTART;TZID=Asia/Tokyo:20250510T090000
DTEND;TZID=Asia/Tokyo:20250510T170000
DTSTAMP:20260421T180951
CREATED:20250424T090350Z
LAST-MODIFIED:20250508T074047Z
UID:20285-1746867600-1746896400@valentijapan.com
SUMMARY:2025年5月10日(土) Honda All Type R World Meeting 2025(栃木県 モビリティリゾートもてぎ)AlphaRexブース出展
DESCRIPTION:EVENT INFORMATION \n2025年5月10日(土) \nHonda All Type R World Meeting 2025 栃木県 モビリティリゾートもてぎにAlphaRex出展致します。 \n  \n圧倒的な存在感アルファレックスLEDシリーズを是非ご覧ください！ \n会場では、今話題のAlphaRex製品を展示します。 \n\nLEDバルブひとつとっても\n同一形状でありながら様々な色味や明るさ・・・\nぜひ愛車のカスタマイズをご相談ください！ \nイベント特典\n■イベント特別価格\n■ 製品サンプル展示\n■メーカーSTAFFによるマッチング相談\n■ノベルティプレゼント（限定） \nさ　ら　に！！ \nイベント特典あり。 \n \nブース位置は【7】になります。 \nぜひ、ご来場ください。 \n  \n日程：2025年5月10日(土)\n場所：モビリティリゾートもてぎ\n住所：栃木県芳賀郡茂木町桧山１２０−１\n運営：Honda All Type R World Meeting運営委員会\n公式サイト：https://civic-typer-meeting.com/2025/ \nAlphaRexJapanブランドサイト：https://alpharexjapan.com \n参加には事前申し込みが必要となります。
URL:https://valentijapan.com/event/20250510alltyper/
ATTACH;FMTTYPE=image/jpeg:https://valentijapan.com/wp-content/uploads/kokuchi001-dayplace-01-2048x1536-1.jpg
END:VEVENT
END:VCALENDAR