BEGIN:VCALENDAR
VERSION:2.0
PRODID:-//VALENTI JAPAN - ヴァレンティジャパン - - ECPv5.16.4//NONSGML v1.0//EN
CALSCALE:GREGORIAN
METHOD:PUBLISH
X-WR-CALNAME:VALENTI JAPAN - ヴァレンティジャパン -
X-ORIGINAL-URL:https://valentijapan.com
X-WR-CALDESC:VALENTI JAPAN - ヴァレンティジャパン - のイベント
BEGIN:VTIMEZONE
TZID:Asia/Tokyo
BEGIN:STANDARD
TZOFFSETFROM:+0900
TZOFFSETTO:+0900
TZNAME:JST
DTSTART:20250101T000000
END:STANDARD
END:VTIMEZONE
BEGIN:VEVENT
DTSTART;TZID=Asia/Tokyo:20250614T100000
DTEND;TZID=Asia/Tokyo:20250622T180000
DTSTAMP:20260421T165028
CREATED:20250605T104443Z
LAST-MODIFIED:20250606T014940Z
UID:20529-1749895200-1750615200@valentijapan.com
SUMMARY:2025年6月14日(土)～6月22日(日)その輝き鮮烈キャンペーン オートバックス川越店(埼玉県)
DESCRIPTION:その輝き鮮烈キャンペーン \n  \nCAMPAIGN INFORMATION \n \nオートバックス川越店にて 「ヴァレンティフェア」を開催いたします。\nヴァレンティ製品をスペシャルプライスにてご提供！！\nもちろんお取り寄せ商品も対象となります！ \nフェア内容はこちら\nhttps://shop.autobacs.com/ja/retail/shops/111073/event/1000000053205 \nキャンペーンの詳細内容につきましては開催店舗まで直接お問い合わせください。\n是非この機会にご来店お待ちしております。 \n日程：2024年6月14日（土）～6月22日（日）\n場所：オートバックス川越店\n住所：埼玉県川越市大字小仙波６２０番２\n電話：049-226-0189\nWEB：https://shop.autobacs.com/ja/retail/shops/111073/?store=111073 \n 
URL:https://valentijapan.com/event/2025061422abkawagoe/
ATTACH;FMTTYPE=image/jpeg:https://valentijapan.com/wp-content/uploads/7f4df077fc91ea746d41c65c6d59983d.jpg
END:VEVENT
END:VCALENDAR