BEGIN:VCALENDAR
VERSION:2.0
PRODID:-//VALENTI JAPAN - ヴァレンティジャパン - - ECPv5.16.4//NONSGML v1.0//EN
CALSCALE:GREGORIAN
METHOD:PUBLISH
X-WR-CALNAME:VALENTI JAPAN - ヴァレンティジャパン -
X-ORIGINAL-URL:https://valentijapan.com
X-WR-CALDESC:VALENTI JAPAN - ヴァレンティジャパン - のイベント
BEGIN:VTIMEZONE
TZID:Asia/Tokyo
BEGIN:STANDARD
TZOFFSETFROM:+0900
TZOFFSETTO:+0900
TZNAME:JST
DTSTART:20250101T000000
END:STANDARD
END:VTIMEZONE
BEGIN:VEVENT
DTSTART;TZID=Asia/Tokyo:20250712T100000
DTEND;TZID=Asia/Tokyo:20250713T170000
DTSTAMP:20260421T165847
CREATED:20250703T000051Z
LAST-MODIFIED:20250703T000343Z
UID:20607-1752314400-1752426000@valentijapan.com
SUMMARY:2025年7月12日(土)～7月13日(日)FLEX　ハイエースベース札幌(北海道)
DESCRIPTION:EVENT INFORMATION \n2025年7月12日(土)～7月13日(日) \nFLEX　ハイエースベース札幌(北海道) \n  \n■イベント特別価格にて販売 \n\n欲しかったあの商品がすべて○○％OFFとスペシャルプライス！ \n  \n会場では、新製品はもちろん、新ブランド【JELBO　V　（ジェルボファイブ）】の展示、販売を行います。\nヴァレンティがお届けする、カークリーニングシステムを是非見に来てください。 \n \nイベント当日はbradoハイパーチャンバーフェア同時開催します！ \n \n■ 無料でご希望の商品をお持ちします!\nイベント開催時だけの特典！「実際の商品を見てみたい！」を叶えます。\n数あるヴァレンティ商品のうち、通常店舗に展示・在庫してある商品はごく一部です。\nイベント開催特典として、事前にご依頼いただければ、ご希望の商品を無料でお持ちしますので、実際に愛車近くで装着イメージを確認することができます。\n無料でお持ちしますが、イベント開催当日までにご来店いただける方に限ります。\nイベント開催1週間前までに「お名前」・「ご来店日時」・「車名・形式」・「商品名」を直接開催店舗までお知らせください。（※お電話でも受付けます。）\n商品は、展示品・サンプル品・持込み商品のいずれかとなりますので、\nイベント当日に装着（お持ち帰り含む）できない場合がございます。\n在庫状況や、やむを得ずお持ちできない場合がございます。ご了承ください。 \n■メーカーSTAFFによるマッチング相談\n愛車のランプ類に何を取り付けていいかわからない…\n安心してください！専任のSTAFFが愛車に合った商品をご提案させていただきます！ \n■事前予約\nイベント事前予約受付もいたします！※イベント当日は混雑が予想されますので事前予約をお勧めします。\nもちろん話題の新製品のご予約も対象となります！ \nイベント特典\n■無料でご希望の商品をお持ちします!\n■メーカーSTAFFによるマッチング相談\n是非この機会にご来場お待ちしております。 \n日程：2025年7月12日（土）～7月13日（日）\n場所：FLEX　ハイエースベース札幌\n住所：〒004-0813 北海道札幌市清田区美しが丘三条9-1-50\nTEL：011-889-1166\nWEB：https://www.flexnet.co.jp/hiace/hiacebase/shop/sapporo \n 
URL:https://valentijapan.com/event/2025071213flexhiacebase/
ATTACH;FMTTYPE=image/jpeg:https://valentijapan.com/wp-content/uploads/2506_HB_sapporo_1080x1920.jpg
END:VEVENT
BEGIN:VEVENT
DTSTART;TZID=Asia/Tokyo:20250712T090000
DTEND;TZID=Asia/Tokyo:20250713T170000
DTSTAMP:20260421T165847
CREATED:20250514T014525Z
LAST-MODIFIED:20250514T014757Z
UID:20387-1752310800-1752426000@valentijapan.com
SUMMARY:2025年7月12日(土)～7月13日(日) FORMULA DRIFT JAPAN2025 Round.4(宮城県 スポーツランドSUGO)
DESCRIPTION:EVENT INFORMATION \n2025年7月12日(土)～7月13日(日) \nFORMULA DRIFT JAPAN2025 Round.4 宮城県 スポーツランドSUGOに出展致します。 \n \n圧倒的な存在感のヴァレンティジュエルLEDシリーズを是非ご覧ください！ \n\nまた、ＬＥＤヘッドバルブ、ＬＥＤバルブ等々、ヴァレンティ製品、話題のケミカル新製品！JELBO製品も展示します。\n期間中、欲しかったあの商品がスペシャルプライス！ \nヴァレンティオフィシャルショップでしか買えない、限定商品販売予定！\nRAV4/GR86/86/80ハリアー/ハイエース/キャラバン用のジュエルLEDテールランプ限定カラーなどなど！ \n \nさ　ら　に！！ \nAlphaRex製品も販売します！ \n \n  \nイベント特典あり。ぜひ、ご来場ください。 \n  \n日程：2025年7月12日(土)～7月13日(日)\n場所：スポーツランドSUGO\n住所：宮城県柴田郡村田町菅生6-1\n運営：MSC株式会社\nTel ：03-5305-3553\n公式サイト：http://www.formulad.jp/ \nValenti motoサイト：https://moto.valentijapan.com/ \n※ご入場には別途入場券が必要になります。
URL:https://valentijapan.com/event/2025071213fdjsugo/
ATTACH;FMTTYPE=image/jpeg:https://valentijapan.com/wp-content/uploads/hl86grzu-cg-1_1.jpg
END:VEVENT
BEGIN:VEVENT
DTSTART;TZID=Asia/Tokyo:20250711T100000
DTEND;TZID=Asia/Tokyo:20250713T180000
DTSTAMP:20260421T165847
CREATED:20250603T091439Z
LAST-MODIFIED:20250603T091618Z
UID:20506-1752228000-1752429600@valentijapan.com
SUMMARY:2025年7月11日(金)〜7月13日(日)群馬パーツショー (群馬県Ｇメッセ群馬)
DESCRIPTION:EVENT INFORMATION \n2025年7月11日(金)〜7月13日(日) \n群馬パーツショー (群馬県Ｇメッセ群馬) \n \n愛車のヘッドライト・フォグライトをはじめ夜間運転中に前方が暗くて見えにくいと感じている方\n愛車の電装を他の人とは違った見た目にドレスアップをしたい方\n愛車のあらゆるランプ類を販売している「ヴァレンティ」にお任せください！\n高光量！高品質！圧倒的商品ラインナップ！を是非イベントで体感してください！ \n話題の新商品のディスプレイも陳列予定！ \n \n【イベント特典】 \n■イベント特別価格にて販売\n欲しかったあの商品がすべて○○％OFFとスペシャルプライス！ \n■ 無料でご希望の商品をお持ちします!\nイベント開催時だけの特典！「実際の商品を見てみたい！」を叶えます。\n数あるヴァレンティ商品のうち、通常店舗に展示・在庫してある商品はごく一部です。\nイベント開催特典として、事前にご依頼いただければ、ご希望の商品を無料でお持ちしますので、実際に愛車近くで装着イメージを確認することができます。\n無料でお持ちしますが、イベント開催当日までにご来店いただける方に限ります。\nイベント開催1週間前までに「お名前」・「ご来店日時」・「車名・形式」・「商品名」を直接開催店舗までお知らせください。（※お電話でも受付けます。）\n商品は、展示品・サンプル品・持込み商品のいずれかとなりますので、\nイベント当日に装着（お持ち帰り含む）できない場合がございます。\n在庫状況や、やむを得ずお持ちできない場合がございます。ご了承ください。 \n会場では新製品はもちろん \n \n多くのValenti/AlphaRex製品を展示します。 \n \n■メーカーSTAFFによるマッチング相談\n愛車のランプ類に何を取り付けていいかわからない…\n安心してください！専任のSTAFFが愛車に合った商品をご提案させていただきます！ \n■USAランプブランドAlphaRex製品展示 \n■事前予約\nイベント事前予約受付もいたします！※イベント当日は混雑が予想されますので事前予約をお勧めします。\nもちろん話題の新製品のご予約も対象となります！ \n事前予約　事前予約　〜7月8日(火)\n\n★イベント日程\n日程：2025年7月11日（金）12日（土）、13日（日）\n場所：Ｇメッセ群馬\n住所：〒370-0044 群馬県高崎市岩押町１２−２４\n主催：群馬トヨタグループ\nTEL：　027-322-2100\nWEB：　https://gtoyota.com/gps/2025/\n  \n 
URL:https://valentijapan.com/event/2025071113gunmapartsshow/
ATTACH;FMTTYPE=image/png:https://valentijapan.com/wp-content/uploads/GPS2025.png
END:VEVENT
END:VCALENDAR