BEGIN:VCALENDAR
VERSION:2.0
PRODID:-//VALENTI JAPAN - ヴァレンティジャパン - - ECPv5.16.4//NONSGML v1.0//EN
CALSCALE:GREGORIAN
METHOD:PUBLISH
X-WR-CALNAME:VALENTI JAPAN - ヴァレンティジャパン -
X-ORIGINAL-URL:https://valentijapan.com
X-WR-CALDESC:VALENTI JAPAN - ヴァレンティジャパン - のイベント
BEGIN:VTIMEZONE
TZID:Asia/Tokyo
BEGIN:STANDARD
TZOFFSETFROM:+0900
TZOFFSETTO:+0900
TZNAME:JST
DTSTART:20250101T000000
END:STANDARD
END:VTIMEZONE
BEGIN:VEVENT
DTSTART;TZID=Asia/Tokyo:20250726T100000
DTEND;TZID=Asia/Tokyo:20250727T180000
DTSTAMP:20260420T052000
CREATED:20250630T042227Z
LAST-MODIFIED:20250630T042227Z
UID:20605-1753524000-1753639200@valentijapan.com
SUMMARY:2025年7月26日(土)～7月27日(日)  スーパーオートバックス宇都宮(栃木県)
DESCRIPTION:EVENT INFORMATION \n7月26日(土)～7月27日(日) \n  \nスーパーオートバックス宇都宮(栃木県) \n  \n愛車のあらゆるランプ類を販売しているこの「ヴァレンティ」にお任せください！ \nもちろん話題の新製品のご予約も対象となります！ \n欲しかったあの商品がすべて○○％OFFとスペシャルプライス！ \n \nイベント開催時だけの特典！「実際の商品を見てみたい！」を叶えます。\n数あるヴァレンティ/アルファレックス商品のうち、通常店舗に展示・在庫してある商品はごく一部です。イベント開催特典として、事前にご依頼いただければ、ご希望の商品を無料でお持ちしますので、実際に愛車近くで装着イメージを確認することができます。\n無料でお持ちしますが、イベント開催当日までにご来店いただける方に限ります。\nイベント開催1週間前までに「お名前」・「ご来店日時」・「車名・形式」・「商品名」を直接開催店舗までお知らせください。（※お電話でも受付けます。）\n商品は、展示品・サンプル品・持込み商品のいずれかとなりますので、\nイベント当日に装着（お持ち帰り含む）できない場合がございます。\n在庫状況や、やむを得ずお持ちできない場合がございます。ご了承ください。\nValefes会場では、新製品はもちろん \n \n多くのValenti/AlphaRex製品を展示します。 \n\nLEDバルブひとつとっても\n同一形状でありながら様々な色味や明るさ・・・\nぜひ愛車のカスタマイズをご相談ください！ \nイベント特典\n■イベント特別価格\n■ 無料でご希望の商品をお持ちします!\n■メーカーSTAFFによるマッチング相談\n■USAランプブランドAlphaRex製品展示 \n是非この機会にご来店お待ちしております。 \nイベント事前予約受付もいたします！※イベント当日は混雑が予想されますので事前予約をお勧めします。\n事前予約　事前予約　〜7月22日(月) \n日程：2025年7月26日（土）～7月27日（日）\n場所：スーパーオートバックス宇都宮\n住所：栃木県宇都宮市城東２丁目２５－１６\nTEL：028-610-3777\nWEB：https://shop.autobacs.com/ja/retail/shops/109015/?store=109015 \nVALEFES：https://www.superautobacs.com/sports_tuning/3016 \n 
URL:https://valentijapan.com/event/2025072627sautsunomiya/
ATTACH;FMTTYPE=image/jpeg:https://valentijapan.com/wp-content/uploads/VALFES-2020h-1-scaled-1.jpg
END:VEVENT
BEGIN:VEVENT
DTSTART;TZID=Asia/Tokyo:20250726T100000
DTEND;TZID=Asia/Tokyo:20250727T180000
DTSTAMP:20260420T052000
CREATED:20250620T011654Z
LAST-MODIFIED:20250620T012322Z
UID:20586-1753524000-1753639200@valentijapan.com
SUMMARY:2025年7月26日(土)～7月27日(日)  スーパーオートバックスかわさき(神奈川県)
DESCRIPTION:EVENT INFORMATION \n7月26日(土)～7月27日(日) \n  \nスーパーオートバックスかわさき(神奈川県) \n  \n愛車のあらゆるランプ類を販売しているこの「ヴァレンティ」にお任せください！ \nもちろん話題の新製品のご予約も対象となります！ \n欲しかったあの商品がすべて○○％OFFとスペシャルプライス！ \n \nイベント開催時だけの特典！「実際の商品を見てみたい！」を叶えます。\n数あるヴァレンティ/アルファレックス商品のうち、通常店舗に展示・在庫してある商品はごく一部です。イベント開催特典として、事前にご依頼いただければ、ご希望の商品を無料でお持ちしますので、実際に愛車近くで装着イメージを確認することができます。\n無料でお持ちしますが、イベント開催当日までにご来店いただける方に限ります。\nイベント開催1週間前までに「お名前」・「ご来店日時」・「車名・形式」・「商品名」を直接開催店舗までお知らせください。（※お電話でも受付けます。）\n商品は、展示品・サンプル品・持込み商品のいずれかとなりますので、\nイベント当日に装着（お持ち帰り含む）できない場合がございます。\n在庫状況や、やむを得ずお持ちできない場合がございます。ご了承ください。\nValefes会場では、新製品はもちろん \n \n多くのValenti/AlphaRex製品を展示します。 \n\nLEDバルブひとつとっても\n同一形状でありながら様々な色味や明るさ・・・\nぜひ愛車のカスタマイズをご相談ください！ \nイベント特典\n■イベント特別価格\n■ 無料でご希望の商品をお持ちします!\n■メーカーSTAFFによるマッチング相談\n■USAランプブランドAlphaRex製品展示 \n是非この機会にご来店お待ちしております。 \nイベント事前予約受付もいたします！※イベント当日は混雑が予想されますので事前予約をお勧めします。\n事前予約　～2024年７月23日(水)\n※イベント当日は混雑が予想されますので事前予約をお勧めします。 \n日程：2025年７月26日（土）～７月27日（日）\n場所：スーパーオートバックスかわさき\n住所：神奈川県川崎市川崎区港町９－８\nTEL： 044-223-4774\nWEB：https://sa-kawasaki.com/\nWEB：https://shop.autobacs.com/ja/retail/shops/115049/?store=115049 \nVALEFES：https://www.superautobacs.com/sports_tuning/3016 \n 
URL:https://valentijapan.com/event/2025072627sakawasaki/
ATTACH;FMTTYPE=image/jpeg:https://valentijapan.com/wp-content/uploads/VALFES-2020h-1-scaled-1.jpg
END:VEVENT
BEGIN:VEVENT
DTSTART;TZID=Asia/Tokyo:20250726T100000
DTEND;TZID=Asia/Tokyo:20250727T180000
DTSTAMP:20260420T052000
CREATED:20250603T084835Z
LAST-MODIFIED:20250722T222459Z
UID:20502-1753524000-1753639200@valentijapan.com
SUMMARY:2025年7月26日(土)～7月27日(日) オートメッセ in 愛知2025(AICHI SKY EXPO 愛知県国際展示場)
DESCRIPTION:EVENT INFORMATION \n2025年7月26日(土)～7月27日(日) \n \nAICHI SKY EXPO (愛知県国際展示場)開催のオートメッセ in 愛知2025に出展致します。 \n \n圧倒的な存在感のヴァレンティジュエルLEDシリーズを是非ご覧ください！ \n\nまた、ＬＥＤヘッドバルブ、ＬＥＤバルブ等々、ヴァレンティ製品、話題のケミカル新製品！JELBO製品も展示します。 \n\n期間中、欲しかったあの商品がスペシャルプライス！ \nヴァレンティオフィシャルショップでしか買えない、限定商品販売予定！\nRAV4/GR86/86/80ハリアー/ハイエース/キャラバン用のジュエルLEDテールランプ限定カラーなどなど！ \n \nさ　ら　に！！ \nAlphaRex製品も販売します！ \n \n \nイベント特典あり。ぜひ、ご来場ください。 \nイベント特典\n■イベント特別価格\n■ USAランプブランドAlphaRex製品展示\n■メーカーSTAFFによるマッチング相談\n■bradoハイパーチャンバーフェア同時開催！ \n \n \n日程：2025年7月26日(土)～7月27日(日)\n場所：AICHI SKY EXPO 愛知県国際展示場\n住所：愛知県常滑市セントレア5丁目10番1号\n主催：オートメッセアソシエイション \n展示ホールF小間番号FB258\n公式サイト：https://www.automesse.jp/aichi/ \n※ご入場には別途入場券が必要になります。
URL:https://valentijapan.com/event/2025072627oaminaichi2025/
ATTACH;FMTTYPE=image/png:https://valentijapan.com/wp-content/uploads/acecc7e09c489ff9920f3d0478e59c8f.png
END:VEVENT
BEGIN:VEVENT
DTSTART;TZID=Asia/Tokyo:20250726T093000
DTEND;TZID=Asia/Tokyo:20250727T160000
DTSTAMP:20260420T052000
CREATED:20250626T023301Z
LAST-MODIFIED:20250626T023301Z
UID:20601-1753522200-1753632000@valentijapan.com
SUMMARY:2025年7月26日(土)〜7月27日(日)山本自動車18周年感謝イベント (茨城県土浦市いやしの里)
DESCRIPTION:EVENT INFORMATION \n2025年7月26日(土)〜7月27日(日) \n茨城県土浦市いやしの里にて開催の山本自動車18周年感謝イベントに出展いたします。 \n  \n愛車のヘッドライト・フォグライトをはじめ夜間運転中に前方が暗くて見えにくいと感じている方\n愛車の電装を他の人とは違った見た目にドレスアップをしたい方\n愛車のあらゆるランプ類を販売している「ヴァレンティ」にお任せください！\n高光量！高品質！圧倒的商品ラインナップ！を是非イベントで体感してください！ \n話題の新商品のディスプレイも陳列予定！ \n \n【イベント特典】 \n■イベント特別価格にて販売\n欲しかったあの商品がすべて○○％OFFとスペシャルプライス！ \n■ 無料でご希望の商品をお持ちします!\nイベント開催時だけの特典！「実際の商品を見てみたい！」を叶えます。\n数あるヴァレンティ商品のうち、通常店舗に展示・在庫してある商品はごく一部です。\nイベント開催特典として、事前にご依頼いただければ、ご希望の商品を無料でお持ちしますので、実際に愛車近くで装着イメージを確認することができます。\n無料でお持ちしますが、イベント開催当日までにご来店いただける方に限ります。\nイベント開催1週間前までに「お名前」・「ご来店日時」・「車名・形式」・「商品名」を直接開催店舗までお知らせください。（※お電話でも受付けます。）\n商品は、展示品・サンプル品・持込み商品のいずれかとなりますので、\nイベント当日に装着（お持ち帰り含む）できない場合がございます。\n在庫状況や、やむを得ずお持ちできない場合がございます。ご了承ください。 \n会場では新製品はもちろん \n \n多くのValenti/AlphaRex製品を展示します。 \n \n■メーカーSTAFFによるマッチング相談\n愛車のランプ類に何を取り付けていいかわからない…\n安心してください！専任のSTAFFが愛車に合った商品をご提案させていただきます！ \n■USAランプブランドAlphaRex製品展示 \n■事前予約\nイベント事前予約受付もいたします！※イベント当日は混雑が予想されますので事前予約をお勧めします。\nもちろん話題の新製品のご予約も対象となります！ \n事前予約　〜7月22日(火)\n\n★イベント日程\n日程：2025年7月26日（土）、27日（日）\n場所：いやしの里　土浦\n住所：茨城県土浦市本郷2141-2\n主催：株式会社山本自動車\nTEL：　029-893-3480\nWEB：　https://ameblo.jp/yama200hiace/entry-12892659911.html\n  \n 
URL:https://valentijapan.com/event/2025072627yamamotojidousha/
ATTACH;FMTTYPE=image/jpeg:https://valentijapan.com/wp-content/uploads/566611.jpg
END:VEVENT
END:VCALENDAR